Workbook

Sheet Schimmelfälle
A1: Mietminderung wegen Schimmel – Falldokumentation
A3: Durchschnittliche Minderungsquote | C3: Offene Fälle | E3: Gesamte überschlägige Minderung | G3: Dokumentierte Fälle
A4: =IFERROR(AVERAGE($X$11:$X$110),0) | C4: =COUNTIF($V$11:$V$110,"Offen") | E4: =SUM($AC$11:$AC$110) | G4: =COUNTA($A$11:$A$110)
A6: Hinweis | B6: Gelbe Felder sind Eingaben. Blaue bzw. helle Felder werden automatisch berechnet. Die Minderungsquote ist nur ein Orientierungswert und sollte vor einer tatsächlichen Kürzung rechtlich geprüft werden.
A10: Vorgangs-ID | B10: Mieter/in | C10: Vermieter/in | D10: Objektadresse | E10: PLZ | F10: Stadt | G10: Wohnungsgröße m² | H10: Kaltmiete | I10: Betriebskostenvorauszahlung | J10: Warmmiete | K10: Kaution | L10: Mietbeginn | M10: Schimmel entdeckt am | N10: Mangel angezeigt am | O10: Anzeigeart | P10: Betroffener Raum | Q10: Betroffene Fläche m² | R10: Ursache vermutet | S10: Fotos/Beweise vorhanden | T10: Gesundheitsbeeinträchtigung | U10: Behebung durch Vermieter am | V10: Mangelstatus | W10: Frist bis | X10: Minderungsquote % | Y10: Minderungsbeginn | Z10: Minderungsende | AA10: Minderungstage | AB10: Monatliche Mietminderung | AC10: Gesamtminderung | AD10: Briefstatus | AE10: Notizen | AF10: Bearbeitungsdauer (Tage)
A11: SM-2026-001 | B11: Thomas Müller | C11: Hausverwaltung Berlin Mitte GmbH | D11: Prenzlauer Allee 118 | E11: 10405 | F11: Berlin | G11: 68 | H11: 1250 | I11: 240 | J11: =IF(OR(H11="",I11=""),"",H11+I11) | K11: 3750 | L11: 46039 | M11: 46224 | N11: 46229 | O11: E-Mail | P11: Schlafzimmer | Q11: 4.5 | R11: Wärmebrücke | S11: Ja | T11: Ja | V11: Offen | W11: 46256 | X11: 0.15 | Y11: 46229 | Z11: 46259 | AA11: =IF(OR(Y11="",Z11=""),"",Z11-Y11+1) | AB11: =IF(OR(J11="",X11=""),"",J11*X11) | AC11: =IF(OR(AB11="",AA11=""),"",IFERROR(AB11*AA11/30,0)) | AD11: Entwurf | AE11: Dunkle Flecken an Außenwand, Fotos vorhanden. | AF11: =IF(OR(N11="",U11=""),"",U11-N11)
A12: SM-2026-002 | B12: Sabine Schneider | C12: Münchner Wohnraumverwaltung KG | D12: Hohenzollernstraße 72 | E12: 80796 | F12: München | G12: 54 | H12: 1120 | I12: 210 | J12: =IF(OR(H12="",I12=""),"",H12+I12) | K12: 3360 | L12: 46054 | M12: 46237 | N12: 46241 | O12: Einwurf-Einschreiben | P12: Bad | Q12: 2.2 | R12: Undichte Silikonfugen | S12: Ja | T12: Nein | V12: In Bearbeitung | W12: 46264 | X12: 0.1 | Y12: 46241 | Z12: 46259 | AA12: =IF(OR(Y12="",Z12=""),"",Z12-Y12+1) | AB12: =IF(OR(J12="",X12=""),"",J12*X12) | AC12: =IF(OR(AB12="",AA12=""),"",IFERROR(AB12*AA12/30,0)) | AD12: Versendet | AE12: Schimmelbildung an Decke über Dusche. | AF12: =IF(OR(N12="",U12=""),"",U12-N12)
A13: SM-2026-003 | B13: Michael Fischer | C13: Elbimmobilien Verwaltung GmbH | D13: Lübecker Straße 35 | E13: 22087 | F13: Hamburg | G13: 73 | H13: 1390 | I13: 265 | J13: =IF(OR(H13="",I13=""),"",H13+I13) | K13: 4170 | L13: 46044 | M13: 46169 | N13: 46175 | O13: Brief | P13: Wohnzimmer | Q13: 6.8 | R13: Feuchtigkeit aus Außenwand | S13: Ja | T13: Ja | U13: 46214 | V13: Behoben | W13: 46194 | X13: 0.2 | Y13: 46175 | Z13: 46214 | AA13: =IF(OR(Y13="",Z13=""),"",Z13-Y13+1) | AB13: =IF(OR(J13="",X13=""),"",J13*X13) | AC13: =IF(OR(AB13="",AA13=""),"",IFERROR(AB13*AA13/30,0)) | AD13: Antwort erhalten | AE13: Fachfirma hat Wand geöffnet und getrocknet. | AF13: =IF(OR(N13="",U13=""),"",U13-N13)
A14: SM-2026-004 | B14: Andrea Weber | C14: Kölner Mietverwaltung GmbH | D14: Aachener Straße 226 | E14: 50931 | F14: Köln | G14: 61 | H14: 1080 | I14: 230 | J14: =IF(OR(H14="",I14=""),"",H14+I14) | K14: 3240 | L14: 46049 | M14: 46211 | N14: 46216 | O14: E-Mail | P14: Küche | Q14: 3.1 | R14: Defekte Abluftanlage | S14: Nein | T14: Nein | V14: Offen | W14: 46244 | X14: 0.08 | Y14: 46216 | Z14: 46259 | AA14: =IF(OR(Y14="",Z14=""),"",Z14-Y14+1) | AB14: =IF(OR(J14="",X14=""),"",J14*X14) | AC14: =IF(OR(AB14="",AA14=""),"",IFERROR(AB14*AA14/30,0)) | AD14: Entwurf | AE14: Geruch und kleine Punkte hinter Küchenzeile. | AF14: =IF(OR(N14="",U14=""),"",U14-N14)
A15: SM-2026-005 | B15: Stefan Wagner | C15: Mainblick Immobilien GmbH | D15: Wittelsbacherallee 44 | E15: 60316 | F15: Frankfurt | G15: 82 | H15: 1570 | I15: 310 | J15: =IF(OR(H15="",I15=""),"",H15+I15) | K15: 4710 | L15: 46041 | M15: 46134 | N15: 46141 | O15: Einwurf-Einschreiben | P15: Schlafzimmer | Q15: 5.6 | R15: Wärmebrücke | S15: Ja | T15: Ja | U15: 46189 | V15: Behoben | W15: 46164 | X15: 0.25 | Y15: 46141 | Z15: 46189 | AA15: =IF(OR(Y15="",Z15=""),"",Z15-Y15+1) | AB15: =IF(OR(J15="",X15=""),"",J15*X15) | AC15: =IF(OR(AB15="",AA15=""),"",IFERROR(AB15*AA15/30,0)) | AD15: Antwort erhalten | AE15: Sanierung der Außenwand abgeschlossen. | AF15: =IF(OR(N15="",U15=""),"",U15-N15)
A16: SM-2026-006 | B16: Petra Becker | C16: Stuttgarter Hausservice GmbH | D16: Rotebühlstraße 91 | E16: 70178 | F16: Stuttgart | G16: 59 | H16: 1180 | I16: 245 | J16: =IF(OR(H16="",I16=""),"",H16+I16) | K16: 3540 | L16: 46059 | M16: 46242 | N16: 46246 | O16: Persönlich | P16: Bad | Q16: 1.7 | R16: Unzureichende Lüftung | S16: Ja | T16: Nein | V16: In Bearbeitung | W16: 46269 | X16: 0.05 | Y16: 46246 | Z16: 46259 | AA16: =IF(OR(Y16="",Z16=""),"",Z16-Y16+1) | AB16: =IF(OR(J16="",X16=""),"",J16*X16) | AC16: =IF(OR(AB16="",AA16=""),"",IFERROR(AB16*AA16/30,0)) | AD16: Versendet | AE16: Besichtigungstermin angekündigt. | AF16: =IF(OR(N16="",U16=""),"",U16-N16)
A17: SM-2026-007 | B17: Andreas Hoffmann | C17: Rheinische Objektverwaltung GmbH | D17: Ackerstraße 86 | E17: 40233 | F17: Düsseldorf | G17: 76 | H17: 1450 | I17: 290 | J17: =IF(OR(H17="",I17=""),"",H17+I17) | K17: 4350 | L17: 46039 | M17: 46114 | N17: 46121 | O17: Brief | P17: Wohnzimmer | Q17: 7.4 | R17: Leitungswasserschaden | S17: Ja | T17: Ja | U17: 46159 | V17: Behoben | W17: 46144 | X17: 0.22 | Y17: 46121 | Z17: 46159 | AA17: =IF(OR(Y17="",Z17=""),"",Z17-Y17+1) | AB17: =IF(OR(J17="",X17=""),"",J17*X17) | AC17: =IF(OR(AB17="",AA17=""),"",IFERROR(AB17*AA17/30,0)) | AD17: Antwort erhalten | AE17: Wasserschaden beseitigt, Malerarbeiten erfolgt. | AF17: =IF(OR(N17="",U17=""),"",U17-N17)
A18: SM-2026-008 | B18: Claudia Schäfer | C18: Leipzig Wohnen Verwaltung GmbH | D18: Karl-Liebknecht-Straße 104 | E18: 04275 | F18: Leipzig | G18: 48 | H18: 890 | I18: 185 | J18: =IF(OR(H18="",I18=""),"",H18+I18) | K18: 2670 | L18: 46064 | M18: 46229 | N18: 46233 | O18: E-Mail | P18: Küche | Q18: 2.8 | R18: Kondenswasser an Außenwand | S18: Ja | T18: Nein | V18: Offen | W18: 46258 | X18: 0.12 | Y18: 46233 | Z18: 46259 | AA18: =IF(OR(Y18="",Z18=""),"",Z18-Y18+1) | AB18: =IF(OR(J18="",X18=""),"",J18*X18) | AC18: =IF(OR(AB18="",AA18=""),"",IFERROR(AB18*AA18/30,0)) | AD18: Entwurf | AE18: Schimmel hinter Vorratsschrank dokumentiert. | AF18: =IF(OR(N18="",U18=""),"",U18-N18)
A19: SM-2026-009 | B19: Markus Bauer | C19: Dresdner Wohnkonzept GmbH | D19: Bautzner Straße 154 | E19: 01099 | F19: Dresden | G19: 66 | H19: 1040 | I19: 220 | J19: =IF(OR(H19="",I19=""),"",H19+I19) | K19: 3120 | L19: 46051 | M19: 46231 | N19: 46236 | O19: Einwurf-Einschreiben | P19: Schlafzimmer | Q19: 3.9 | R19: Undichte Fensterlaibung | S19: Ja | T19: Ja | V19: In Bearbeitung | W19: 46266 | X19: 0.18 | Y19: 46236 | Z19: 46259 | AA19: =IF(OR(Y19="",Z19=""),"",Z19-Y19+1) | AB19: =IF(OR(J19="",X19=""),"",J19*X19) | AC19: =IF(OR(AB19="",AA19=""),"",IFERROR(AB19*AA19/30,0)) | AD19: Versendet | AE19: Gesundheitliche Beschwerden im Winter. | AF19: =IF(OR(N19="",U19=""),"",U19-N19)
A20: SM-2026-010 | B20: Nicole Richter | C20: Hannover Hausverwaltung AG | D20: Lister Meile 47 | E20: 30161 | F20: Hannover | G20: 71 | H20: 1280 | I20: 255 | J20: =IF(OR(H20="",I20=""),"",H20+I20) | K20: 3840 | L20: 46043 | M20: 46149 | N20: 46156 | O20: Brief | P20: Bad | Q20: 2.5 | R20: Defekter Lüfter | S20: Ja | T20: Nein | U20: 46197 | V20: Behoben | W20: 46179 | X20: 0.1 | Y20: 46156 | Z20: 46197 | AA20: =IF(OR(Y20="",Z20=""),"",Z20-Y20+1) | AB20: =IF(OR(J20="",X20=""),"",J20*X20) | AC20: =IF(OR(AB20="",AA20=""),"",IFERROR(AB20*AA20/30,0)) | AD20: Antwort erhalten | AE20: Lüfter ersetzt und Fläche fachgerecht behandelt. | AF20: =IF(OR(N20="",U20=""),"",U20-N20)
J21: =IF(OR(H21="",I21=""),"",H21+I21) | AA21: =IF(OR(Y21="",Z21=""),"",Z21-Y21+1) | AB21: =IF(OR(J21="",X21=""),"",J21*X21) | AC21: =IF(OR(AB21="",AA21=""),"",IFERROR(AB21*AA21/30,0)) | AF21: =IF(OR(N21="",U21=""),"",U21-N21)
J22: =IF(OR(H22="",I22=""),"",H22+I22) | AA22: =IF(OR(Y22="",Z22=""),"",Z22-Y22+1) | AB22: =IF(OR(J22="",X22=""),"",J22*X22) | AC22: =IF(OR(AB22="",AA22=""),"",IFERROR(AB22*AA22/30,0)) | AF22: =IF(OR(N22="",U22=""),"",U22-N22)
J23: =IF(OR(H23="",I23=""),"",H23+I23) | AA23: =IF(OR(Y23="",Z23=""),"",Z23-Y23+1) | AB23: =IF(OR(J23="",X23=""),"",J23*X23) | AC23: =IF(OR(AB23="",AA23=""),"",IFERROR(AB23*AA23/30,0)) | AF23: =IF(OR(N23="",U23=""),"",U23-N23)
J24: =IF(OR(H24="",I24=""),"",H24+I24) | AA24: =IF(OR(Y24="",Z24=""),"",Z24-Y24+1) | AB24: =IF(OR(J24="",X24=""),"",J24*X24) | AC24: =IF(OR(AB24="",AA24=""),"",IFERROR(AB24*AA24/30,0)) | AF24: =IF(OR(N24="",U24=""),"",U24-N24)
J25: =IF(OR(H25="",I25=""),"",H25+I25) | AA25: =IF(OR(Y25="",Z25=""),"",Z25-Y25+1) | AB25: =IF(OR(J25="",X25=""),"",J25*X25) | AC25: =IF(OR(AB25="",AA25=""),"",IFERROR(AB25*AA25/30,0)) | AF25: =IF(OR(N25="",U25=""),"",U25-N25)
J26: =IF(OR(H26="",I26=""),"",H26+I26) | AA26: =IF(OR(Y26="",Z26=""),"",Z26-Y26+1) | AB26: =IF(OR(J26="",X26=""),"",J26*X26) | AC26: =IF(OR(AB26="",AA26=""),"",IFERROR(AB26*AA26/30,0)) | AF26: =IF(OR(N26="",U26=""),"",U26-N26)
J27: =IF(OR(H27="",I27=""),"",H27+I27) | AA27: =IF(OR(Y27="",Z27=""),"",Z27-Y27+1) | AB27: =IF(OR(J27="",X27=""),"",J27*X27) | AC27: =IF(OR(AB27="",AA27=""),"",IFERROR(AB27*AA27/30,0)) | AF27: =IF(OR(N27="",U27=""),"",U27-N27)
J28: =IF(OR(H28="",I28=""),"",H28+I28) | AA28: =IF(OR(Y28="",Z28=""),"",Z28-Y28+1) | AB28: =IF(OR(J28="",X28=""),"",J28*X28) | AC28: =IF(OR(AB28="",AA28=""),"",IFERROR(AB28*AA28/30,0)) | AF28: =IF(OR(N28="",U28=""),"",U28-N28)
J29: =IF(OR(H29="",I29=""),"",H29+I29) | AA29: =IF(OR(Y29="",Z29=""),"",Z29-Y29+1) | AB29: =IF(OR(J29="",X29=""),"",J29*X29) | AC29: =IF(OR(AB29="",AA29=""),"",IFERROR(AB29*AA29/30,0)) | AF29: =IF(OR(N29="",U29=""),"",U29-N29)
J30: =IF(OR(H30="",I30=""),"",H30+I30) | AA30: =IF(OR(Y30="",Z30=""),"",Z30-Y30+1) | AB30: =IF(OR(J30="",X30=""),"",J30*X30) | AC30: =IF(OR(AB30="",AA30=""),"",IFERROR(AB30*AA30/30,0)) | AF30: =IF(OR(N30="",U30=""),"",U30-N30)
J31: =IF(OR(H31="",I31=""),"",H31+I31) | AA31: =IF(OR(Y31="",Z31=""),"",Z31-Y31+1) | AB31: =IF(OR(J31="",X31=""),"",J31*X31) | AC31: =IF(OR(AB31="",AA31=""),"",IFERROR(AB31*AA31/30,0)) | AF31: =IF(OR(N31="",U31=""),"",U31-N31)
J32: =IF(OR(H32="",I32=""),"",H32+I32) | AA32: =IF(OR(Y32="",Z32=""),"",Z32-Y32+1) | AB32: =IF(OR(J32="",X32=""),"",J32*X32) | AC32: =IF(OR(AB32="",AA32=""),"",IFERROR(AB32*AA32/30,0)) | AF32: =IF(OR(N32="",U32=""),"",U32-N32)
... J110: =IF(OR(H110="",I110=""),"",H110+I110) | AA110: =IF(OR(Y110="",Z110=""),"",Z110-Y110+1) | AB110: =IF(OR(J110="",X110=""),"",J110*X110) | AC110: =IF(OR(AB110="",AA110=""),"",IFERROR(AB110*AA110/30,0)) | AF110: =IF(OR(N110="",U110=""),"",U110-N110)

Sheet Berechnung & Übersicht
A1: Berechnung & Übersicht – Mietminderung wegen Schimmel | J1: Diagrammdaten
J3: Stadt | K3: Gesamtminderung | M3: Mangelstatus | N3: Anzahl Fälle | P3: Betroffener Raum | Q3: Durchschnittliche Minderungsquote
A4: Ausgewählte Vorgangs-ID | B4: SM-2026-001 | J4: Berlin | K4: =SUMIF('Schimmelfälle'!$F$11:$F$110,J4,'Schimmelfälle'!$AC$11:$AC$110) | M4: Offen | N4: =COUNTIF('Schimmelfälle'!$V$11:$V$110,M4) | P4: Schlafzimmer | Q4: =IFERROR(SUMIF('Schimmelfälle'!$P$11:$P$110,P4,'Schimmelfälle'!$X$11:$X$110)/COUNTIF('Schimmelfälle'!$P$11:$P$110,P4),0)
J5: München | K5: =SUMIF('Schimmelfälle'!$F$11:$F$110,J5,'Schimmelfälle'!$AC$11:$AC$110) | M5: In Bearbeitung | N5: =COUNTIF('Schimmelfälle'!$V$11:$V$110,M5) | P5: Bad | Q5: =IFERROR(SUMIF('Schimmelfälle'!$P$11:$P$110,P5,'Schimmelfälle'!$X$11:$X$110)/COUNTIF('Schimmelfälle'!$P$11:$P$110,P5),0)
A6: Anzahl aller Fälle | B6: Offene Mängelanzeigen | C6: Fälle mit Gesundheitsbeeinträchtigung | D6: Durchschnittliche Minderungsquote | E6: Summe der überschlägigen Mietminderungen | F6: Durchschnittliche Bearbeitungsdauer | J6: Hamburg | K6: =SUMIF('Schimmelfälle'!$F$11:$F$110,J6,'Schimmelfälle'!$AC$11:$AC$110) | M6: Behoben | N6: =COUNTIF('Schimmelfälle'!$V$11:$V$110,M6) | P6: Wohnzimmer | Q6: =IFERROR(SUMIF('Schimmelfälle'!$P$11:$P$110,P6,'Schimmelfälle'!$X$11:$X$110)/COUNTIF('Schimmelfälle'!$P$11:$P$110,P6),0)
A7: =COUNTA('Schimmelfälle'!$A$11:$A$110) | B7: =COUNTIF('Schimmelfälle'!$V$11:$V$110,"Offen") | C7: =COUNTIF('Schimmelfälle'!$T$11:$T$110,"Ja") | D7: =IFERROR(AVERAGE('Schimmelfälle'!$X$11:$X$110),0) | E7: =SUM('Schimmelfälle'!$AC$11:$AC$110) | F7: =IFERROR(SUMIF('Schimmelfälle'!$V$11:$V$110,"Behoben",'Schimmelfälle'!$AF$11:$AF$110)/COUNTIF('Schimmelfälle'!$V$11:$V$110,"Behoben"),0) | J7: Köln | K7: =SUMIF('Schimmelfälle'!$F$11:$F$110,J7,'Schimmelfälle'!$AC$11:$AC$110) | N7: =IF(M7="","",COUNTIF('Schimmelfälle'!$V$11:$V$110,M7)) | P7: Küche | Q7: =IFERROR(SUMIF('Schimmelfälle'!$P$11:$P$110,P7,'Schimmelfälle'!$X$11:$X$110)/COUNTIF('Schimmelfälle'!$P$11:$P$110,P7),0)
J8: Frankfurt | K8: =SUMIF('Schimmelfälle'!$F$11:$F$110,J8,'Schimmelfälle'!$AC$11:$AC$110) | N8: =IF(M8="","",COUNTIF('Schimmelfälle'!$V$11:$V$110,M8)) | Q8: =IF(P8="","",IFERROR(SUMIF('Schimmelfälle'!$P$11:$P$110,P8,'Schimmelfälle'!$X$11:$X$110)/COUNTIF('Schimmelfälle'!$P$11:$P$110,P8),0))
A9: Falldetails zur ausgewählten Vorgangs-ID | J9: Stuttgart | K9: =SUMIF('Schimmelfälle'!$F$11:$F$110,J9,'Schimmelfälle'!$AC$11:$AC$110) | N9: =IF(M9="","",COUNTIF('Schimmelfälle'!$V$11:$V$110,M9)) | Q9: =IF(P9="","",IFERROR(SUMIF('Schimmelfälle'!$P$11:$P$110,P9,'Schimmelfälle'!$X$11:$X$110)/COUNTIF('Schimmelfälle'!$P$11:$P$110,P9),0))
A10: Mieter/in | B10: =IFERROR(VLOOKUP($B$4,'Schimmelfälle'!$A$11:$AF$110,2,FALSE),"") | C10: Vermieter/in | D10: =IFERROR(VLOOKUP($B$4,'Schimmelfälle'!$A$11:$AF$110,3,FALSE),"") | E10: Objektadresse | F10: =IFERROR(VLOOKUP($B$4,'Schimmelfälle'!$A$11:$AF$110,4,FALSE),"") | J10: Düsseldorf | K10: =SUMIF('Schimmelfälle'!$F$11:$F$110,J10,'Schimmelfälle'!$AC$11:$AC$110) | N10: =IF(M10="","",COUNTIF('Schimmelfälle'!$V$11:$V$110,M10)) | Q10: =IF(P10="","",IFERROR(SUMIF('Schimmelfälle'!$P$11:$P$110,P10,'Schimmelfälle'!$X$11:$X$110)/COUNTIF('Schimmelfälle'!$P$11:$P$110,P10),0))
A11: PLZ | B11: =IFERROR(VLOOKUP($B$4,'Schimmelfälle'!$A$11:$AF$110,5,FALSE),"") | C11: Stadt | D11: =IFERROR(VLOOKUP($B$4,'Schimmelfälle'!$A$11:$AF$110,6,FALSE),"") | E11: Betroffener Raum | F11: =IFERROR(VLOOKUP($B$4,'Schimmelfälle'!$A$11:$AF$110,16,FALSE),"") | J11: Leipzig | K11: =SUMIF('Schimmelfälle'!$F$11:$F$110,J11,'Schimmelfälle'!$AC$11:$AC$110) | N11: =IF(M11="","",COUNTIF('Schimmelfälle'!$V$11:$V$110,M11)) | Q11: =IF(P11="","",IFERROR(SUMIF('Schimmelfälle'!$P$11:$P$110,P11,'Schimmelfälle'!$X$11:$X$110)/COUNTIF('Schimmelfälle'!$P$11:$P$110,P11),0))
A12: Kaltmiete | B12: =IFERROR(VLOOKUP($B$4,'Schimmelfälle'!$A$11:$AF$110,8,FALSE),"") | C12: Warmmiete | D12: =IFERROR(VLOOKUP($B$4,'Schimmelfälle'!$A$11:$AF$110,10,FALSE),"") | E12: Minderungsquote | F12: =IFERROR(VLOOKUP($B$4,'Schimmelfälle'!$A$11:$AF$110,24,FALSE),"") | J12: Dresden | K12: =SUMIF('Schimmelfälle'!$F$11:$F$110,J12,'Schimmelfälle'!$AC$11:$AC$110) | N12: =IF(M12="","",COUNTIF('Schimmelfälle'!$V$11:$V$110,M12)) | Q12: =IF(P12="","",IFERROR(SUMIF('Schimmelfälle'!$P$11:$P$110,P12,'Schimmelfälle'!$X$11:$X$110)/COUNTIF('Schimmelfälle'!$P$11:$P$110,P12),0))
A13: Festgestellt am | B13: =IFERROR(VLOOKUP($B$4,'Schimmelfälle'!$A$11:$AF$110,13,FALSE),"") | C13: Mangel angezeigt am | D13: =IFERROR(VLOOKUP($B$4,'Schimmelfälle'!$A$11:$AF$110,14,FALSE),"") | E13: Frist bis | F13: =IFERROR(VLOOKUP($B$4,'Schimmelfälle'!$A$11:$AF$110,23,FALSE),"") | J13: Hannover | K13: =SUMIF('Schimmelfälle'!$F$11:$F$110,J13,'Schimmelfälle'!$AC$11:$AC$110) | N13: =IF(M13="","",COUNTIF('Schimmelfälle'!$V$11:$V$110,M13)) | Q13: =IF(P13="","",IFERROR(SUMIF('Schimmelfälle'!$P$11:$P$110,P13,'Schimmelfälle'!$X$11:$X$110)/COUNTIF('Schimmelfälle'!$P$11:$P$110,P13),0))
A14: Mangelstatus | B14: =IFERROR(VLOOKUP($B$4,'Schimmelfälle'!$A$11:$AF$110,22,FALSE),"") | C14: Gesundheitsbeeinträchtigung | D14: =IFERROR(VLOOKUP($B$4,'Schimmelfälle'!$A$11:$AF$110,20,FALSE),"") | E14: Fotos/Beweise | F14: =IFERROR(VLOOKUP($B$4,'Schimmelfälle'!$A$11:$AF$110,19,FALSE),"") | K14: =IF(J14="","",SUMIF('Schimmelfälle'!$F$11:$F$110,J14,'Schimmelfälle'!$AC$11:$AC$110)) | N14: =IF(M14="","",COUNTIF('Schimmelfälle'!$V$11:$V$110,M14)) | Q14: =IF(P14="","",IFERROR(SUMIF('Schimmelfälle'!$P$11:$P$110,P14,'Schimmelfälle'!$X$11:$X$110)/COUNTIF('Schimmelfälle'!$P$11:$P$110,P14),0))
A15: Monatliche Mietminderung | B15: =IFERROR(VLOOKUP($B$4,'Schimmelfälle'!$A$11:$AF$110,28,FALSE),"") | C15: Gesamtminderung | D15: =IFERROR(VLOOKUP($B$4,'Schimmelfälle'!$A$11:$AF$110,29,FALSE),"") | E15: Fristüberwachung | F15: =IF(F13="","",IF(F13<TODAY(),"Frist abgelaufen",IF(F13-TODAY()<=7,"Frist läuft bald ab","Frist ausreichend"))) | K15: =IF(J15="","",SUMIF('Schimmelfälle'!$F$11:$F$110,J15,'Schimmelfälle'!$AC$11:$AC$110)) | N15: =IF(M15="","",COUNTIF('Schimmelfälle'!$V$11:$V$110,M15)) | Q15: =IF(P15="","",IFERROR(SUMIF('Schimmelfälle'!$P$11:$P$110,P15,'Schimmelfälle'!$X$11:$X$110)/COUNTIF('Schimmelfälle'!$P$11:$P$110,P15),0))
A16: Validierung der Minderung | B16: =IF(F12="","",IF(F12>0.5,"Rechtliche Prüfung empfohlen","Orientierungswert")) | C16: Minderungstage | D16: =IFERROR(VLOOKUP($B$4,'Schimmelfälle'!$A$11:$AF$110,27,FALSE),"") | E16: Bearbeitungsdauer | F16: =IFERROR(VLOOKUP($B$4,'Schimmelfälle'!$A$11:$AF$110,32,FALSE),"") | K16: =IF(J16="","",SUMIF('Schimmelfälle'!$F$11:$F$110,J16,'Schimmelfälle'!$AC$11:$AC$110)) | N16: =IF(M16="","",COUNTIF('Schimmelfälle'!$V$11:$V$110,M16)) | Q16: =IF(P16="","",IFERROR(SUMIF('Schimmelfälle'!$P$11:$P$110,P16,'Schimmelfälle'!$X$11:$X$110)/COUNTIF('Schimmelfälle'!$P$11:$P$110,P16),0))
B17: ="" | D17: ="" | F17: ="" | K17: =IF(J17="","",SUMIF('Schimmelfälle'!$F$11:$F$110,J17,'Schimmelfälle'!$AC$11:$AC$110)) | N17: =IF(M17="","",COUNTIF('Schimmelfälle'!$V$11:$V$110,M17)) | Q17: =IF(P17="","",IFERROR(SUMIF('Schimmelfälle'!$P$11:$P$110,P17,'Schimmelfälle'!$X$11:$X$110)/COUNTIF('Schimmelfälle'!$P$11:$P$110,P17),0))
B18: ="" | D18: ="" | F18: ="" | K18: =IF(J18="","",SUMIF('Schimmelfälle'!$F$11:$F$110,J18,'Schimmelfälle'!$AC$11:$AC$110)) | N18: =IF(M18="","",COUNTIF('Schimmelfälle'!$V$11:$V$110,M18)) | Q18: =IF(P18="","",IFERROR(SUMIF('Schimmelfälle'!$P$11:$P$110,P18,'Schimmelfälle'!$X$11:$X$110)/COUNTIF('Schimmelfälle'!$P$11:$P$110,P18),0))
B19: ="" | D19: ="" | F19: ="" | K19: =IF(J19="","",SUMIF('Schimmelfälle'!$F$11:$F$110,J19,'Schimmelfälle'!$AC$11:$AC$110)) | N19: =IF(M19="","",COUNTIF('Schimmelfälle'!$V$11:$V$110,M19)) | Q19: =IF(P19="","",IFERROR(SUMIF('Schimmelfälle'!$P$11:$P$110,P19,'Schimmelfälle'!$X$11:$X$110)/COUNTIF('Schimmelfälle'!$P$11:$P$110,P19),0))
B20: ="" | D20: ="" | F20: ="" | K20: =IF(J20="","",SUMIF('Schimmelfälle'!$F$11:$F$110,J20,'Schimmelfälle'!$AC$11:$AC$110)) | N20: =IF(M20="","",COUNTIF('Schimmelfälle'!$V$11:$V$110,M20)) | Q20: =IF(P20="","",IFERROR(SUMIF('Schimmelfälle'!$P$11:$P$110,P20,'Schimmelfälle'!$X$11:$X$110)/COUNTIF('Schimmelfälle'!$P$11:$P$110,P20),0))
B21: ="" | D21: ="" | F21: ="" | K21: =IF(J21="","",SUMIF('Schimmelfälle'!$F$11:$F$110,J21,'Schimmelfälle'!$AC$11:$AC$110)) | N21: =IF(M21="","",COUNTIF('Schimmelfälle'!$V$11:$V$110,M21)) | Q21: =IF(P21="","",IFERROR(SUMIF('Schimmelfälle'!$P$11:$P$110,P21,'Schimmelfälle'!$X$11:$X$110)/COUNTIF('Schimmelfälle'!$P$11:$P$110,P21),0))
B22: ="" | D22: ="" | F22: ="" | K22: =IF(J22="","",SUMIF('Schimmelfälle'!$F$11:$F$110,J22,'Schimmelfälle'!$AC$11:$AC$110)) | N22: =IF(M22="","",COUNTIF('Schimmelfälle'!$V$11:$V$110,M22)) | Q22: =IF(P22="","",IFERROR(SUMIF('Schimmelfälle'!$P$11:$P$110,P22,'Schimmelfälle'!$X$11:$X$110)/COUNTIF('Schimmelfälle'!$P$11:$P$110,P22),0))
B23: ="" | D23: ="" | F23: ="" | K23: =IF(J23="","",SUMIF('Schimmelfälle'!$F$11:$F$110,J23,'Schimmelfälle'!$AC$11:$AC$110)) | N23: =IF(M23="","",COUNTIF('Schimmelfälle'!$V$11:$V$110,M23)) | Q23: =IF(P23="","",IFERROR(SUMIF('Schimmelfälle'!$P$11:$P$110,P23,'Schimmelfälle'!$X$11:$X$110)/COUNTIF('Schimmelfälle'!$P$11:$P$110,P23),0))
B24: ="" | D24: ="" | F24: ="" | K24: =IF(J24="","",SUMIF('Schimmelfälle'!$F$11:$F$110,J24,'Schimmelfälle'!$AC$11:$AC$110)) | N24: =IF(M24="","",COUNTIF('Schimmelfälle'!$V$11:$V$110,M24)) | Q24: =IF(P24="","",IFERROR(SUMIF('Schimmelfälle'!$P$11:$P$110,P24,'Schimmelfälle'!$X$11:$X$110)/COUNTIF('Schimmelfälle'!$P$11:$P$110,P24),0))
B25: ="" | D25: ="" | F25: ="" | K25: =IF(J25="","",SUMIF('Schimmelfälle'!$F$11:$F$110,J25,'Schimmelfälle'!$AC$11:$AC$110)) | N25: =IF(M25="","",COUNTIF('Schimmelfälle'!$V$11:$V$110,M25)) | Q25: =IF(P25="","",IFERROR(SUMIF('Schimmelfälle'!$P$11:$P$110,P25,'Schimmelfälle'!$X$11:$X$110)/COUNTIF('Schimmelfälle'!$P$11:$P$110,P25),0))
B26: ="" | D26: ="" | F26: ="" | K26: =IF(J26="","",SUMIF('Schimmelfälle'!$F$11:$F$110,J26,'Schimmelfälle'!$AC$11:$AC$110)) | N26: =IF(M26="","",COUNTIF('Schimmelfälle'!$V$11:$V$110,M26)) | Q26: =IF(P26="","",IFERROR(SUMIF('Schimmelfälle'!$P$11:$P$110,P26,'Schimmelfälle'!$X$11:$X$110)/COUNTIF('Schimmelfälle'!$P$11:$P$110,P26),0))
B27: ="" | D27: ="" | F27: ="" | K27: =IF(J27="","",SUMIF('Schimmelfälle'!$F$11:$F$110,J27,'Schimmelfälle'!$AC$11:$AC$110)) | N27: =IF(M27="","",COUNTIF('Schimmelfälle'!$V$11:$V$110,M27)) | Q27: =IF(P27="","",IFERROR(SUMIF('Schimmelfälle'!$P$11:$P$110,P27,'Schimmelfälle'!$X$11:$X$110)/COUNTIF('Schimmelfälle'!$P$11:$P$110,P27),0))
B28: ="" | D28: ="" | F28: ="" | K28: =IF(J28="","",SUMIF('Schimmelfälle'!$F$11:$F$110,J28,'Schimmelfälle'!$AC$11:$AC$110)) | N28: =IF(M28="","",COUNTIF('Schimmelfälle'!$V$11:$V$110,M28)) | Q28: =IF(P28="","",IFERROR(SUMIF('Schimmelfälle'!$P$11:$P$110,P28,'Schimmelfälle'!$X$11:$X$110)/COUNTIF('Schimmelfälle'!$P$11:$P$110,P28),0))
... B101: ="" | D101: ="" | F101: ="" | K101: =IF(J101="","",SUMIF('Schimmelfälle'!$F$11:$F$110,J101,'Schimmelfälle'!$AC$11:$AC$110)) | N101: =IF(M101="","",COUNTIF('Schimmelfälle'!$V$11:$V$110,M101)) | Q101: =IF(P101="","",IFERROR(SUMIF('Schimmelfälle'!$P$11:$P$110,P101,'Schimmelfälle'!$X$11:$X$110)/COUNTIF('Schimmelfälle'!$P$11:$P$110,P101),0))

Sheet Briefvorlage
A1: Briefvorlage – Mängelanzeige und Mietminderung wegen Schimmel
A3: Ausgewählter Vorgang | B3: ='Berechnung & Übersicht'!$B$4
A5: Absender | B5: =IFERROR(VLOOKUP($B$3,'Schimmelfälle'!$A$11:$AF$110,2,FALSE),"")
A6: Mietanschrift | B6: =IFERROR(VLOOKUP($B$3,'Schimmelfälle'!$A$11:$AF$110,4,FALSE)&", "&VLOOKUP($B$3,'Schimmelfälle'!$A$11:$AF$110,5,FALSE)&" "&VLOOKUP($B$3,'Schimmelfälle'!$A$11:$AF$110,6,FALSE),"")
A8: Empfänger | B8: =IFERROR(VLOOKUP($B$3,'Schimmelfälle'!$A$11:$AF$110,3,FALSE),"")
A9: Ort | B9: =IFERROR(VLOOKUP($B$3,'Schimmelfälle'!$A$11:$AF$110,6,FALSE),"") | C9: Datum | D9: =TODAY()
A11: Betreff | B11: Mängelanzeige und Ankündigung einer Mietminderung wegen Schimmelbefalls
A14: Sehr geehrte Damen und Herren,
A16: hiermit zeige ich den nachstehend dokumentierten Schimmelbefall in meiner Mietwohnung gemäß § 536c BGB an.
A17: Ich fordere Sie auf, den Mangel zeitnah zu besichtigen und fachgerecht beseitigen zu lassen.
A20: Objektadresse | B20: =IFERROR(VLOOKUP($B$3,'Schimmelfälle'!$A$11:$AF$110,4,FALSE),"")
A21: Betroffener Raum | B21: =IFERROR(VLOOKUP($B$3,'Schimmelfälle'!$A$11:$AF$110,16,FALSE),"")
A22: Festgestellt am | B22: =IFERROR(VLOOKUP($B$3,'Schimmelfälle'!$A$11:$AF$110,13,FALSE),"")
A23: Mangelbeschreibung | B23: =IF($B$3="","",IFERROR("Schimmelbefall im Bereich des angegebenen Raums. Vermutete Ursache: "&VLOOKUP($B$3,'Schimmelfälle'!$A$11:$AF$110,18,FALSE),""))
A25: Beweismittel | B25: =IF(IFERROR(VLOOKUP($B$3,'Schimmelfälle'!$A$11:$AF$110,19,FALSE),"")="Ja","Fotos und weitere Beweismittel sind vorhanden und werden auf Wunsch vorgelegt.","Bitte sichern Sie Fotos und weitere Beweismittel.")
A28: Frist bis | B28: =IFERROR(VLOOKUP($B$3,'Schimmelfälle'!$A$11:$AF$110,23,FALSE),"")
A29: Gesundheitshinweis | B29: =IF(IFERROR(VLOOKUP($B$3,'Schimmelfälle'!$A$11:$AF$110,20,FALSE),"")="Ja","Es wurde eine Gesundheitsbeeinträchtigung dokumentiert. Bitte veranlassen Sie eine vorrangige Prüfung.","Derzeit wurde keine Gesundheitsbeeinträchtigung dokumentiert.")
A30: Friststatus | B30: =IFERROR('Berechnung & Übersicht'!$F$15,"")
A32: Warmmiete | B32: =IFERROR(VLOOKUP($B$3,'Schimmelfälle'!$A$11:$AF$110,10,FALSE),"") | C32: Minderungsquote | D32: =IFERROR(VLOOKUP($B$3,'Schimmelfälle'!$A$11:$AF$110,24,FALSE),"") | E32: Tagesbetrag | F32: =IF(OR(B32="",D32=""),"",IFERROR(B32*D32/30,0))
A33: Überschlägige Gesamtminderung | B33: =IFERROR(VLOOKUP($B$3,'Schimmelfälle'!$A$11:$AF$110,29,FALSE),"")
A35: Ich behalte mir gemäß § 536 BGB eine angemessene Mietminderung vor. Die nachstehende Berechnung dient ausschließlich als überschlägige Orientierung.
A36: Warnhinweis: Minderungsquote vor tatsächlicher Kürzung rechtlich prüfen lassen.
B38: =IF(IFERROR(VLOOKUP($B$3,'Schimmelfälle'!$A$11:$AF$110,20,FALSE),"")="Ja","Aufgrund der angegebenen Gesundheitsbeeinträchtigung bitte ich um vorrangige Terminvereinbarung.","")
B39: =IF(B30="Frist abgelaufen","Die Frist ist abgelaufen, die weitere Vorgehensweise sollte rechtlich geprüft werden.",IF(B30="Frist läuft bald ab","Die Frist läuft bald ab. Bitte bestätigen Sie den Termin zeitnah.",""))
B40: =""
A41: Bitte bestätigen Sie mir schriftlich einen Besichtigungs- bzw. Beseitigungstermin. | B41: =""
B42: =""
A43: Mit freundlichen Grüßen | B43: =""
B44: =""
A45: ____________________________ | B45: =""
A46: =B5 | B46: =""
B47: =""
B48: =""
B49: =""
B50: =""
B51: =""
B52: =""
B53: =""
B54: =""
B55: =""
...
