Workbook

Sheet Mieterhöhungen
A1: Vorgangs-ID | B1: Mieter/in | C1: Objektadresse | D1: Stadt | E1: Wohnfläche (m²) | F1: Mietbeginn | G1: Letzte Mieterhöhung | H1: Kaltmiete aktuell (€) | I1: Kaltmiete pro m² (€) | J1: Mietspiegel-Minimum pro m² (€) | K1: Mietspiegel-Maximum pro m² (€) | L1: Angestrebte Kaltmiete pro m² (€) | M1: Angestrebte Kaltmiete (€) | N1: Erhöhung absolut (€) | O1: Erhöhung in % | P1: Kappungsgrenze (%) | Q1: Maximal zulässige Kaltmiete nach Kappungsgrenze (€) | R1: Frühestes Wirksamkeitsdatum | S1: Zustimmung bis | T1: Prüfergebnis | U1: Status | V1: Bemerkung
A2: MH-2026-001 | B2: Thomas Müller | C2: Prenzlauer Allee 145 | D2: Berlin | E2: 72 | F2: 46032 | G2: 46113 | H2: 900 | I2: =IF(OR($A2="",$E2="",$H2=""),"",IFERROR($H2/$E2,0)) | J2: 11.8 | K2: 14 | L2: 13.5 | M2: =IF(OR($A2="",$E2="",$L2=""),"",$E2*$L2) | N2: =IF(OR($A2="",$M2="",$H2=""),"",$M2-$H2) | O2: =IF(OR($A2="",$N2="",$H2=""),"",IFERROR($N2/$H2,0)) | P2: 0.15 | Q2: =IF(OR($A2="",$H2="",$P2=""),"",$H2*(1+$P2)) | R2: 46296 | S2: 46265 | T2: =IF(OR($A2="",$M2="",$Q2="",$L2="",$J2="",$K2=""),"",IF($M2>$Q2,"Überschreitung Kappungsgrenze",IF($L2>$K2,"Über Mietspiegel-Maximum",IF($L2<$J2,"Unter Mietspiegel-Minimum","Plausibel")))) | U2: =IF($A2="","",IF($T2="Plausibel","Vorbereitung Zustimmung","Prüfung erforderlich")) | V2: Mietspiegelwert innerhalb der Vergleichsspanne.
A3: MH-2026-002 | B3: Sabine Schneider | C3: Lindwurmstraße 82 | D3: München | E3: 68 | F3: 46037 | G3: 46122 | H3: 1240 | I3: =IF(OR($A3="",$E3="",$H3=""),"",IFERROR($H3/$E3,0)) | J3: 17 | K3: 19.5 | L3: 20 | M3: =IF(OR($A3="",$E3="",$L3=""),"",$E3*$L3) | N3: =IF(OR($A3="",$M3="",$H3=""),"",$M3-$H3) | O3: =IF(OR($A3="",$N3="",$H3=""),"",IFERROR($N3/$H3,0)) | P3: 0.15 | Q3: =IF(OR($A3="",$H3="",$P3=""),"",$H3*(1+$P3)) | R3: 46327 | S3: 46266 | T3: =IF(OR($A3="",$M3="",$Q3="",$L3="",$J3="",$K3=""),"",IF($M3>$Q3,"Überschreitung Kappungsgrenze",IF($L3>$K3,"Über Mietspiegel-Maximum",IF($L3<$J3,"Unter Mietspiegel-Minimum","Plausibel")))) | U3: =IF($A3="","",IF($T3="Plausibel","Vorbereitung Zustimmung","Prüfung erforderlich")) | V3: Angestrebter Wert oberhalb des Mietspiegel-Maximums.
A4: MH-2026-003 | B4: Michael Fischer | C4: Osterstraße 73 | D4: Hamburg | E4: 82 | F4: 46054 | G4: 46127 | H4: 1080 | I4: =IF(OR($A4="",$E4="",$H4=""),"",IFERROR($H4/$E4,0)) | J4: 12.8 | K4: 15.2 | L4: 14.4 | M4: =IF(OR($A4="",$E4="",$L4=""),"",$E4*$L4) | N4: =IF(OR($A4="",$M4="",$H4=""),"",$M4-$H4) | O4: =IF(OR($A4="",$N4="",$H4=""),"",IFERROR($N4/$H4,0)) | P4: 0.15 | Q4: =IF(OR($A4="",$H4="",$P4=""),"",$H4*(1+$P4)) | R4: 46296 | S4: 46262 | T4: =IF(OR($A4="",$M4="",$Q4="",$L4="",$J4="",$K4=""),"",IF($M4>$Q4,"Überschreitung Kappungsgrenze",IF($L4>$K4,"Über Mietspiegel-Maximum",IF($L4<$J4,"Unter Mietspiegel-Minimum","Plausibel")))) | U4: =IF($A4="","",IF($T4="Plausibel","Vorbereitung Zustimmung","Prüfung erforderlich")) | V4: Vergleichswert anhand Wohnlage prüfen.
A5: MH-2026-004 | B5: Andrea Weber | C5: Venloer Straße 215 | D5: Köln | E5: 58 | F5: 46042 | G5: 46101 | H5: 760 | I5: =IF(OR($A5="",$E5="",$H5=""),"",IFERROR($H5/$E5,0)) | J5: 12.5 | K5: 14.3 | L5: 15.8 | M5: =IF(OR($A5="",$E5="",$L5=""),"",$E5*$L5) | N5: =IF(OR($A5="",$M5="",$H5=""),"",$M5-$H5) | O5: =IF(OR($A5="",$N5="",$H5=""),"",IFERROR($N5/$H5,0)) | P5: 0.15 | Q5: =IF(OR($A5="",$H5="",$P5=""),"",$H5*(1+$P5)) | R5: 46296 | S5: 46259 | T5: =IF(OR($A5="",$M5="",$Q5="",$L5="",$J5="",$K5=""),"",IF($M5>$Q5,"Überschreitung Kappungsgrenze",IF($L5>$K5,"Über Mietspiegel-Maximum",IF($L5<$J5,"Unter Mietspiegel-Minimum","Plausibel")))) | U5: =IF($A5="","",IF($T5="Plausibel","Vorbereitung Zustimmung","Prüfung erforderlich")) | V5: Erhöhung überschreitet die hinterlegte Kappungsgrenze.
A6: MH-2026-005 | B6: Stefan Wagner | C6: Mainzer Landstraße 188 | D6: Frankfurt am Main | E6: 95 | F6: 46063 | G6: 46143 | H6: 1480 | I6: =IF(OR($A6="",$E6="",$H6=""),"",IFERROR($H6/$E6,0)) | J6: 15 | K6: 17.2 | L6: 16.8 | M6: =IF(OR($A6="",$E6="",$L6=""),"",$E6*$L6) | N6: =IF(OR($A6="",$M6="",$H6=""),"",$M6-$H6) | O6: =IF(OR($A6="",$N6="",$H6=""),"",IFERROR($N6/$H6,0)) | P6: 0.15 | Q6: =IF(OR($A6="",$H6="",$P6=""),"",$H6*(1+$P6)) | R6: 46327 | S6: 46270 | T6: =IF(OR($A6="",$M6="",$Q6="",$L6="",$J6="",$K6=""),"",IF($M6>$Q6,"Überschreitung Kappungsgrenze",IF($L6>$K6,"Über Mietspiegel-Maximum",IF($L6<$J6,"Unter Mietspiegel-Minimum","Plausibel")))) | U6: =IF($A6="","",IF($T6="Plausibel","Vorbereitung Zustimmung","Prüfung erforderlich")) | V6: Ausstattungsmerkmale in der Begründung aufführen.
A7: MH-2026-006 | B7: Petra Becker | C7: Tübinger Straße 40 | D7: Stuttgart | E7: 64 | F7: 46027 | G7: 46117 | H7: 980 | I7: =IF(OR($A7="",$E7="",$H7=""),"",IFERROR($H7/$E7,0)) | J7: 14.8 | K7: 16.7 | L7: 16.2 | M7: =IF(OR($A7="",$E7="",$L7=""),"",$E7*$L7) | N7: =IF(OR($A7="",$M7="",$H7=""),"",$M7-$H7) | O7: =IF(OR($A7="",$N7="",$H7=""),"",IFERROR($N7/$H7,0)) | P7: 0.15 | Q7: =IF(OR($A7="",$H7="",$P7=""),"",$H7*(1+$P7)) | R7: 46296 | S7: 46264 | T7: =IF(OR($A7="",$M7="",$Q7="",$L7="",$J7="",$K7=""),"",IF($M7>$Q7,"Überschreitung Kappungsgrenze",IF($L7>$K7,"Über Mietspiegel-Maximum",IF($L7<$J7,"Unter Mietspiegel-Minimum","Plausibel")))) | U7: =IF($A7="","",IF($T7="Plausibel","Vorbereitung Zustimmung","Prüfung erforderlich")) | V7: Mietspiegelwert plausibel.
A8: MH-2026-007 | B8: Andreas Hoffmann | C8: Bilker Allee 95 | D8: Düsseldorf | E8: 78 | F8: 46058 | G8: 46147 | H8: 1040 | I8: =IF(OR($A8="",$E8="",$H8=""),"",IFERROR($H8/$E8,0)) | J8: 12.9 | K8: 15.1 | L8: 14.9 | M8: =IF(OR($A8="",$E8="",$L8=""),"",$E8*$L8) | N8: =IF(OR($A8="",$M8="",$H8=""),"",$M8-$H8) | O8: =IF(OR($A8="",$N8="",$H8=""),"",IFERROR($N8/$H8,0)) | P8: 0.2 | Q8: =IF(OR($A8="",$H8="",$P8=""),"",$H8*(1+$P8)) | R8: 46327 | S8: 46268 | T8: =IF(OR($A8="",$M8="",$Q8="",$L8="",$J8="",$K8=""),"",IF($M8>$Q8,"Überschreitung Kappungsgrenze",IF($L8>$K8,"Über Mietspiegel-Maximum",IF($L8<$J8,"Unter Mietspiegel-Minimum","Plausibel")))) | U8: =IF($A8="","",IF($T8="Plausibel","Vorbereitung Zustimmung","Prüfung erforderlich")) | V8: Gebiet mit hinterlegter Kappungsgrenze prüfen.
A9: MH-2026-008 | B9: Claudia Schäfer | C9: Karl-Liebknecht-Straße 121 | D9: Leipzig | E9: 52 | F9: 46034 | G9: 46124 | H9: 620 | I9: =IF(OR($A9="",$E9="",$H9=""),"",IFERROR($H9/$E9,0)) | J9: 11.5 | K9: 13.4 | L9: 13.1 | M9: =IF(OR($A9="",$E9="",$L9=""),"",$E9*$L9) | N9: =IF(OR($A9="",$M9="",$H9=""),"",$M9-$H9) | O9: =IF(OR($A9="",$N9="",$H9=""),"",IFERROR($N9/$H9,0)) | P9: 0.15 | Q9: =IF(OR($A9="",$H9="",$P9=""),"",$H9*(1+$P9)) | R9: 46296 | S9: 46263 | T9: =IF(OR($A9="",$M9="",$Q9="",$L9="",$J9="",$K9=""),"",IF($M9>$Q9,"Überschreitung Kappungsgrenze",IF($L9>$K9,"Über Mietspiegel-Maximum",IF($L9<$J9,"Unter Mietspiegel-Minimum","Plausibel")))) | U9: =IF($A9="","",IF($T9="Plausibel","Vorbereitung Zustimmung","Prüfung erforderlich")) | V9: Mietspiegelwert innerhalb der Vergleichsspanne.
A10: MH-2026-009 | B10: Markus Bauer | C10: Bautzner Straße 58 | D10: Dresden | E10: 48 | F10: 46068 | G10: 46152 | H10: 520 | I10: =IF(OR($A10="",$E10="",$H10=""),"",IFERROR($H10/$E10,0)) | J10: 10.3 | K10: 12.3 | L10: 13 | M10: =IF(OR($A10="",$E10="",$L10=""),"",$E10*$L10) | N10: =IF(OR($A10="",$M10="",$H10=""),"",$M10-$H10) | O10: =IF(OR($A10="",$N10="",$H10=""),"",IFERROR($N10/$H10,0)) | P10: 0.15 | Q10: =IF(OR($A10="",$H10="",$P10=""),"",$H10*(1+$P10)) | R10: 46327 | S10: 46269 | T10: =IF(OR($A10="",$M10="",$Q10="",$L10="",$J10="",$K10=""),"",IF($M10>$Q10,"Überschreitung Kappungsgrenze",IF($L10>$K10,"Über Mietspiegel-Maximum",IF($L10<$J10,"Unter Mietspiegel-Minimum","Plausibel")))) | U10: =IF($A10="","",IF($T10="Plausibel","Vorbereitung Zustimmung","Prüfung erforderlich")) | V10: Erhöhung überschreitet die hinterlegte Kappungsgrenze.
A11: MH-2026-010 | B11: Nicole Richter | C11: Limmerstraße 44 | D11: Hannover | E11: 87 | F11: 46047 | G11: 46132 | H11: 1100 | I11: =IF(OR($A11="",$E11="",$H11=""),"",IFERROR($H11/$E11,0)) | J11: 12 | K11: 14.4 | L11: 11.5 | M11: =IF(OR($A11="",$E11="",$L11=""),"",$E11*$L11) | N11: =IF(OR($A11="",$M11="",$H11=""),"",$M11-$H11) | O11: =IF(OR($A11="",$N11="",$H11=""),"",IFERROR($N11/$H11,0)) | P11: 0.2 | Q11: =IF(OR($A11="",$H11="",$P11=""),"",$H11*(1+$P11)) | R11: 46296 | S11: 46261 | T11: =IF(OR($A11="",$M11="",$Q11="",$L11="",$J11="",$K11=""),"",IF($M11>$Q11,"Überschreitung Kappungsgrenze",IF($L11>$K11,"Über Mietspiegel-Maximum",IF($L11<$J11,"Unter Mietspiegel-Minimum","Plausibel")))) | U11: =IF($A11="","",IF($T11="Plausibel","Vorbereitung Zustimmung","Prüfung erforderlich")) | V11: Angestrebter Wert unterhalb des Mietspiegel-Minimums.
I12: =IF(OR($A12="",$E12="",$H12=""),"",IFERROR($H12/$E12,0)) | M12: =IF(OR($A12="",$E12="",$L12=""),"",$E12*$L12) | N12: =IF(OR($A12="",$M12="",$H12=""),"",$M12-$H12) | O12: =IF(OR($A12="",$N12="",$H12=""),"",IFERROR($N12/$H12,0)) | Q12: =IF(OR($A12="",$H12="",$P12=""),"",$H12*(1+$P12)) | T12: =IF(OR($A12="",$M12="",$Q12="",$L12="",$J12="",$K12=""),"",IF($M12>$Q12,"Überschreitung Kappungsgrenze",IF($L12>$K12,"Über Mietspiegel-Maximum",IF($L12<$J12,"Unter Mietspiegel-Minimum","Plausibel")))) | U12: =IF($A12="","",IF($T12="Plausibel","Vorbereitung Zustimmung","Prüfung erforderlich"))
I13: =IF(OR($A13="",$E13="",$H13=""),"",IFERROR($H13/$E13,0)) | M13: =IF(OR($A13="",$E13="",$L13=""),"",$E13*$L13) | N13: =IF(OR($A13="",$M13="",$H13=""),"",$M13-$H13) | O13: =IF(OR($A13="",$N13="",$H13=""),"",IFERROR($N13/$H13,0)) | Q13: =IF(OR($A13="",$H13="",$P13=""),"",$H13*(1+$P13)) | T13: =IF(OR($A13="",$M13="",$Q13="",$L13="",$J13="",$K13=""),"",IF($M13>$Q13,"Überschreitung Kappungsgrenze",IF($L13>$K13,"Über Mietspiegel-Maximum",IF($L13<$J13,"Unter Mietspiegel-Minimum","Plausibel")))) | U13: =IF($A13="","",IF($T13="Plausibel","Vorbereitung Zustimmung","Prüfung erforderlich"))
I14: =IF(OR($A14="",$E14="",$H14=""),"",IFERROR($H14/$E14,0)) | M14: =IF(OR($A14="",$E14="",$L14=""),"",$E14*$L14) | N14: =IF(OR($A14="",$M14="",$H14=""),"",$M14-$H14) | O14: =IF(OR($A14="",$N14="",$H14=""),"",IFERROR($N14/$H14,0)) | Q14: =IF(OR($A14="",$H14="",$P14=""),"",$H14*(1+$P14)) | T14: =IF(OR($A14="",$M14="",$Q14="",$L14="",$J14="",$K14=""),"",IF($M14>$Q14,"Überschreitung Kappungsgrenze",IF($L14>$K14,"Über Mietspiegel-Maximum",IF($L14<$J14,"Unter Mietspiegel-Minimum","Plausibel")))) | U14: =IF($A14="","",IF($T14="Plausibel","Vorbereitung Zustimmung","Prüfung erforderlich"))
I15: =IF(OR($A15="",$E15="",$H15=""),"",IFERROR($H15/$E15,0)) | M15: =IF(OR($A15="",$E15="",$L15=""),"",$E15*$L15) | N15: =IF(OR($A15="",$M15="",$H15=""),"",$M15-$H15) | O15: =IF(OR($A15="",$N15="",$H15=""),"",IFERROR($N15/$H15,0)) | Q15: =IF(OR($A15="",$H15="",$P15=""),"",$H15*(1+$P15)) | T15: =IF(OR($A15="",$M15="",$Q15="",$L15="",$J15="",$K15=""),"",IF($M15>$Q15,"Überschreitung Kappungsgrenze",IF($L15>$K15,"Über Mietspiegel-Maximum",IF($L15<$J15,"Unter Mietspiegel-Minimum","Plausibel")))) | U15: =IF($A15="","",IF($T15="Plausibel","Vorbereitung Zustimmung","Prüfung erforderlich"))
I16: =IF(OR($A16="",$E16="",$H16=""),"",IFERROR($H16/$E16,0)) | M16: =IF(OR($A16="",$E16="",$L16=""),"",$E16*$L16) | N16: =IF(OR($A16="",$M16="",$H16=""),"",$M16-$H16) | O16: =IF(OR($A16="",$N16="",$H16=""),"",IFERROR($N16/$H16,0)) | Q16: =IF(OR($A16="",$H16="",$P16=""),"",$H16*(1+$P16)) | T16: =IF(OR($A16="",$M16="",$Q16="",$L16="",$J16="",$K16=""),"",IF($M16>$Q16,"Überschreitung Kappungsgrenze",IF($L16>$K16,"Über Mietspiegel-Maximum",IF($L16<$J16,"Unter Mietspiegel-Minimum","Plausibel")))) | U16: =IF($A16="","",IF($T16="Plausibel","Vorbereitung Zustimmung","Prüfung erforderlich"))
I17: =IF(OR($A17="",$E17="",$H17=""),"",IFERROR($H17/$E17,0)) | M17: =IF(OR($A17="",$E17="",$L17=""),"",$E17*$L17) | N17: =IF(OR($A17="",$M17="",$H17=""),"",$M17-$H17) | O17: =IF(OR($A17="",$N17="",$H17=""),"",IFERROR($N17/$H17,0)) | Q17: =IF(OR($A17="",$H17="",$P17=""),"",$H17*(1+$P17)) | T17: =IF(OR($A17="",$M17="",$Q17="",$L17="",$J17="",$K17=""),"",IF($M17>$Q17,"Überschreitung Kappungsgrenze",IF($L17>$K17,"Über Mietspiegel-Maximum",IF($L17<$J17,"Unter Mietspiegel-Minimum","Plausibel")))) | U17: =IF($A17="","",IF($T17="Plausibel","Vorbereitung Zustimmung","Prüfung erforderlich"))
I18: =IF(OR($A18="",$E18="",$H18=""),"",IFERROR($H18/$E18,0)) | M18: =IF(OR($A18="",$E18="",$L18=""),"",$E18*$L18) | N18: =IF(OR($A18="",$M18="",$H18=""),"",$M18-$H18) | O18: =IF(OR($A18="",$N18="",$H18=""),"",IFERROR($N18/$H18,0)) | Q18: =IF(OR($A18="",$H18="",$P18=""),"",$H18*(1+$P18)) | T18: =IF(OR($A18="",$M18="",$Q18="",$L18="",$J18="",$K18=""),"",IF($M18>$Q18,"Überschreitung Kappungsgrenze",IF($L18>$K18,"Über Mietspiegel-Maximum",IF($L18<$J18,"Unter Mietspiegel-Minimum","Plausibel")))) | U18: =IF($A18="","",IF($T18="Plausibel","Vorbereitung Zustimmung","Prüfung erforderlich"))
I19: =IF(OR($A19="",$E19="",$H19=""),"",IFERROR($H19/$E19,0)) | M19: =IF(OR($A19="",$E19="",$L19=""),"",$E19*$L19) | N19: =IF(OR($A19="",$M19="",$H19=""),"",$M19-$H19) | O19: =IF(OR($A19="",$N19="",$H19=""),"",IFERROR($N19/$H19,0)) | Q19: =IF(OR($A19="",$H19="",$P19=""),"",$H19*(1+$P19)) | T19: =IF(OR($A19="",$M19="",$Q19="",$L19="",$J19="",$K19=""),"",IF($M19>$Q19,"Überschreitung Kappungsgrenze",IF($L19>$K19,"Über Mietspiegel-Maximum",IF($L19<$J19,"Unter Mietspiegel-Minimum","Plausibel")))) | U19: =IF($A19="","",IF($T19="Plausibel","Vorbereitung Zustimmung","Prüfung erforderlich"))
I20: =IF(OR($A20="",$E20="",$H20=""),"",IFERROR($H20/$E20,0)) | M20: =IF(OR($A20="",$E20="",$L20=""),"",$E20*$L20) | N20: =IF(OR($A20="",$M20="",$H20=""),"",$M20-$H20) | O20: =IF(OR($A20="",$N20="",$H20=""),"",IFERROR($N20/$H20,0)) | Q20: =IF(OR($A20="",$H20="",$P20=""),"",$H20*(1+$P20)) | T20: =IF(OR($A20="",$M20="",$Q20="",$L20="",$J20="",$K20=""),"",IF($M20>$Q20,"Überschreitung Kappungsgrenze",IF($L20>$K20,"Über Mietspiegel-Maximum",IF($L20<$J20,"Unter Mietspiegel-Minimum","Plausibel")))) | U20: =IF($A20="","",IF($T20="Plausibel","Vorbereitung Zustimmung","Prüfung erforderlich"))
I21: =IF(OR($A21="",$E21="",$H21=""),"",IFERROR($H21/$E21,0)) | M21: =IF(OR($A21="",$E21="",$L21=""),"",$E21*$L21) | N21: =IF(OR($A21="",$M21="",$H21=""),"",$M21-$H21) | O21: =IF(OR($A21="",$N21="",$H21=""),"",IFERROR($N21/$H21,0)) | Q21: =IF(OR($A21="",$H21="",$P21=""),"",$H21*(1+$P21)) | T21: =IF(OR($A21="",$M21="",$Q21="",$L21="",$J21="",$K21=""),"",IF($M21>$Q21,"Überschreitung Kappungsgrenze",IF($L21>$K21,"Über Mietspiegel-Maximum",IF($L21<$J21,"Unter Mietspiegel-Minimum","Plausibel")))) | U21: =IF($A21="","",IF($T21="Plausibel","Vorbereitung Zustimmung","Prüfung erforderlich"))
I22: =IF(OR($A22="",$E22="",$H22=""),"",IFERROR($H22/$E22,0)) | M22: =IF(OR($A22="",$E22="",$L22=""),"",$E22*$L22) | N22: =IF(OR($A22="",$M22="",$H22=""),"",$M22-$H22) | O22: =IF(OR($A22="",$N22="",$H22=""),"",IFERROR($N22/$H22,0)) | Q22: =IF(OR($A22="",$H22="",$P22=""),"",$H22*(1+$P22)) | T22: =IF(OR($A22="",$M22="",$Q22="",$L22="",$J22="",$K22=""),"",IF($M22>$Q22,"Überschreitung Kappungsgrenze",IF($L22>$K22,"Über Mietspiegel-Maximum",IF($L22<$J22,"Unter Mietspiegel-Minimum","Plausibel")))) | U22: =IF($A22="","",IF($T22="Plausibel","Vorbereitung Zustimmung","Prüfung erforderlich"))
I23: =IF(OR($A23="",$E23="",$H23=""),"",IFERROR($H23/$E23,0)) | M23: =IF(OR($A23="",$E23="",$L23=""),"",$E23*$L23) | N23: =IF(OR($A23="",$M23="",$H23=""),"",$M23-$H23) | O23: =IF(OR($A23="",$N23="",$H23=""),"",IFERROR($N23/$H23,0)) | Q23: =IF(OR($A23="",$H23="",$P23=""),"",$H23*(1+$P23)) | T23: =IF(OR($A23="",$M23="",$Q23="",$L23="",$J23="",$K23=""),"",IF($M23>$Q23,"Überschreitung Kappungsgrenze",IF($L23>$K23,"Über Mietspiegel-Maximum",IF($L23<$J23,"Unter Mietspiegel-Minimum","Plausibel")))) | U23: =IF($A23="","",IF($T23="Plausibel","Vorbereitung Zustimmung","Prüfung erforderlich"))
... I111: =IF(OR($A111="",$E111="",$H111=""),"",IFERROR($H111/$E111,0)) | M111: =IF(OR($A111="",$E111="",$L111=""),"",$E111*$L111) | N111: =IF(OR($A111="",$M111="",$H111=""),"",$M111-$H111) | O111: =IF(OR($A111="",$N111="",$H111=""),"",IFERROR($N111/$H111,0)) | Q111: =IF(OR($A111="",$H111="",$P111=""),"",$H111*(1+$P111)) | T111: =IF(OR($A111="",$M111="",$Q111="",$L111="",$J111="",$K111=""),"",IF($M111>$Q111,"Überschreitung Kappungsgrenze",IF($L111>$K111,"Über Mietspiegel-Maximum",IF($L111<$J111,"Unter Mietspiegel-Minimum","Plausibel")))) | U111: =IF($A111="","",IF($T111="Plausibel","Vorbereitung Zustimmung","Prüfung erforderlich"))

Sheet Übersicht
A1: Übersicht Mieterhöhungen
A2: Kennzahl | B2: Wert
A3: Anzahl aller Vorgänge | B3: =COUNTIF('Mieterhöhungen'!$A$2:$A$111,"<>")
A4: Anzahl plausibler Vorgänge | B4: =COUNTIF('Mieterhöhungen'!$T$2:$T$111,"Plausibel")
A5: Anzahl Prüfungen erforderlich | B5: =COUNTIF('Mieterhöhungen'!$U$2:$U$111,"Prüfung erforderlich")
A6: Durchschnittliche aktuelle Kaltmiete | B6: =IFERROR(AVERAGE('Mieterhöhungen'!$H$2:$H$111),0)
A7: Durchschnittliche geplante Erhöhung in % | B7: =IFERROR(AVERAGE('Mieterhöhungen'!$O$2:$O$111),0)
A8: Summe aktuelle Kaltmiete | B8: =SUM('Mieterhöhungen'!$H$2:$H$111)
A9: Summe geplante Kaltmiete | B9: =SUM('Mieterhöhungen'!$M$2:$M$111)
A10: Durchschnittliche Mehrerlöse | B10: =IFERROR(AVERAGE('Mieterhöhungen'!$N$2:$N$111),0)
A12: Status | B12: Anzahl
A13: Plausibel | B13: =COUNTIF('Mieterhöhungen'!$T$2:$T$111,"Plausibel")
A14: Prüfung erforderlich | B14: =COUNTIF('Mieterhöhungen'!$U$2:$U$111,"Prüfung erforderlich")
A16: Stadt | B16: Anzahl Vorgänge | C16: Mietspiegel-Maximum pro m² (€) | D16: Durchschnittliche geplante Erhöhung in %
A17: Berlin | B17: =COUNTIF('Mieterhöhungen'!$D$2:$D$111,A17) | C17: =IFERROR(VLOOKUP(A17,$K$37:$L$46,2,FALSE),"Nicht gefunden") | D17: =IFERROR(SUMIF('Mieterhöhungen'!$D$2:$D$111,A17,'Mieterhöhungen'!$O$2:$O$111)/COUNTIF('Mieterhöhungen'!$D$2:$D$111,A17),0)
A18: München | B18: =COUNTIF('Mieterhöhungen'!$D$2:$D$111,A18) | C18: =IFERROR(VLOOKUP(A18,$K$37:$L$46,2,FALSE),"Nicht gefunden") | D18: =IFERROR(SUMIF('Mieterhöhungen'!$D$2:$D$111,A18,'Mieterhöhungen'!$O$2:$O$111)/COUNTIF('Mieterhöhungen'!$D$2:$D$111,A18),0)
A19: Hamburg | B19: =COUNTIF('Mieterhöhungen'!$D$2:$D$111,A19) | C19: =IFERROR(VLOOKUP(A19,$K$37:$L$46,2,FALSE),"Nicht gefunden") | D19: =IFERROR(SUMIF('Mieterhöhungen'!$D$2:$D$111,A19,'Mieterhöhungen'!$O$2:$O$111)/COUNTIF('Mieterhöhungen'!$D$2:$D$111,A19),0)
A20: Köln | B20: =COUNTIF('Mieterhöhungen'!$D$2:$D$111,A20) | C20: =IFERROR(VLOOKUP(A20,$K$37:$L$46,2,FALSE),"Nicht gefunden") | D20: =IFERROR(SUMIF('Mieterhöhungen'!$D$2:$D$111,A20,'Mieterhöhungen'!$O$2:$O$111)/COUNTIF('Mieterhöhungen'!$D$2:$D$111,A20),0)
A21: Frankfurt am Main | B21: =COUNTIF('Mieterhöhungen'!$D$2:$D$111,A21) | C21: =IFERROR(VLOOKUP(A21,$K$37:$L$46,2,FALSE),"Nicht gefunden") | D21: =IFERROR(SUMIF('Mieterhöhungen'!$D$2:$D$111,A21,'Mieterhöhungen'!$O$2:$O$111)/COUNTIF('Mieterhöhungen'!$D$2:$D$111,A21),0)
A22: Stuttgart | B22: =COUNTIF('Mieterhöhungen'!$D$2:$D$111,A22) | C22: =IFERROR(VLOOKUP(A22,$K$37:$L$46,2,FALSE),"Nicht gefunden") | D22: =IFERROR(SUMIF('Mieterhöhungen'!$D$2:$D$111,A22,'Mieterhöhungen'!$O$2:$O$111)/COUNTIF('Mieterhöhungen'!$D$2:$D$111,A22),0)
A23: Düsseldorf | B23: =COUNTIF('Mieterhöhungen'!$D$2:$D$111,A23) | C23: =IFERROR(VLOOKUP(A23,$K$37:$L$46,2,FALSE),"Nicht gefunden") | D23: =IFERROR(SUMIF('Mieterhöhungen'!$D$2:$D$111,A23,'Mieterhöhungen'!$O$2:$O$111)/COUNTIF('Mieterhöhungen'!$D$2:$D$111,A23),0)
A24: Leipzig | B24: =COUNTIF('Mieterhöhungen'!$D$2:$D$111,A24) | C24: =IFERROR(VLOOKUP(A24,$K$37:$L$46,2,FALSE),"Nicht gefunden") | D24: =IFERROR(SUMIF('Mieterhöhungen'!$D$2:$D$111,A24,'Mieterhöhungen'!$O$2:$O$111)/COUNTIF('Mieterhöhungen'!$D$2:$D$111,A24),0)
A25: Dresden | B25: =COUNTIF('Mieterhöhungen'!$D$2:$D$111,A25) | C25: =IFERROR(VLOOKUP(A25,$K$37:$L$46,2,FALSE),"Nicht gefunden") | D25: =IFERROR(SUMIF('Mieterhöhungen'!$D$2:$D$111,A25,'Mieterhöhungen'!$O$2:$O$111)/COUNTIF('Mieterhöhungen'!$D$2:$D$111,A25),0)
A26: Hannover | B26: =COUNTIF('Mieterhöhungen'!$D$2:$D$111,A26) | C26: =IFERROR(VLOOKUP(A26,$K$37:$L$46,2,FALSE),"Nicht gefunden") | D26: =IFERROR(SUMIF('Mieterhöhungen'!$D$2:$D$111,A26,'Mieterhöhungen'!$O$2:$O$111)/COUNTIF('Mieterhöhungen'!$D$2:$D$111,A26),0)
K35: Mietspiegel-Referenzwerte
K36: Stadt | L36: Maximum pro m² (€)
K37: Berlin | L37: 14
K38: München | L38: 19.5
K39: Hamburg | L39: 15.2
K40: Köln | L40: 14.3
K41: Frankfurt am Main | L41: 17.2
K42: Stuttgart | L42: 16.7
K43: Düsseldorf | L43: 15.1
K44: Leipzig | L44: 13.4
K45: Dresden | L45: 12.3
K46: Hannover | L46: 14.4

Sheet Hinweise
A1: Hinweise zur Arbeitsmappe Mieterhöhung
A3: Bereich | B3: Hinweis
A4: Mieterhöhungen | B4: Die gelb hinterlegten Felder sind Eingabefelder. Berechnete Spalten enthalten die aktuelle Miete pro m², die angestrebte Kaltmiete, die Erhöhung und die Plausibilisierung.
A5: Wartefrist | B5: Prüfen Sie die Wartefrist nach § 558 BGB anhand des konkreten Mietverhältnisses, der letzten Mieterhöhung und des tatsächlichen frühesten Wirksamkeitsdatums.
A6: Kappungsgrenze | B6: Die Kappungsgrenze nach § 558 Abs. 3 BGB ist für das jeweilige Gebiet zu prüfen und als editierbarer Wert von 15 % oder 20 % zu hinterlegen.
A7: Mietspiegel | B7: Vergleichen Sie die Eingabewerte mit dem jeweils gültigen qualifizierten oder einfachen Mietspiegel sowie den maßgeblichen Merkmalen der Wohnung.
A8: Mieterhöhungsverlangen | B8: Vor Versand sind Begründung, Form, Fristen, Zugang und Zustimmungserfordernisse des Mieterhöhungsverlangens im Einzelfall zu prüfen.
A9: Prüfergebnis | B9: Ein plausibles Prüfergebnis zeigt nur die rechnerische Einordnung anhand der eingegebenen Vergleichswerte und Kappungsgrenze. Es ersetzt keine rechtliche Bewertung.
A10: Datenschutz | B10: Personenbezogene Daten sind gemäß DSGVO zu verarbeiten. Die in dieser Arbeitsmappe enthaltenen Beispieldaten sind fiktiv.
A11: Haftungshinweis | B11: Diese Arbeitsmappe ersetzt keine individuelle rechtliche Prüfung durch fachkundige Beratung.
