Workbook

Sheet Antrag & Kosten
A1: Formloser Antrag auf Genehmigung / Erstattung von Renovierungskosten
A2: Antrag-Nr. | B2: AN-2026-001 | D2: Antragsdatum | E2: 46093
A3: Antragsteller/in | B3: Thomas Müller | D3: Adresse Antragsteller | E3: Friedrichstraße 120
A4: Vermieter/in / Hausverwaltung | B4: Hausverwaltung Berlin GmbH | D4: Mietobjekt-Adresse | E4: Friedrichstraße 120
A5: PLZ | B5: 10117 | D5: Ort | E5: Berlin
A6: Mietvertragsbeginn | B6: 44378 | D6: Geplanter Ausführungszeitraum | E6: 01.04.2026 bis 30.06.2026
A7: Begründung / Anlass | B7: Beseitigung von Abnutzung, Mängeln und erforderlichen Instandsetzungen. | D7: IBAN für Erstattung | E7: DE89 3704 0044 0532 0130 00
A8: Status | B8: Entwurf
A15: Gesamtkosten brutto | D15: Gesamtsumme Antrag | G15: Durchschnittliche Position | J15: Vollständige Nachweise | M15: Statusprüfung
A16: =SUM(N19:N118) | D16: =SUM(S19:S118) | G16: =IFERROR(AVERAGE(N19:N118),0) | J16: =COUNTIF(V19:V118,"Ja") | M16: =IF(COUNTIF(V19:V118,"Nein")>0,"Nachweise fehlen","Unterlagen vollständig")
A18: Pos.-Nr. | B18: Raum / Bereich | C18: Renovierungsmaßnahme | D18: Begründung / Mangel | E18: Dienstleister / Lieferant | F18: Angebot-Nr. | G18: Angebotsdatum | H18: Geplanter Beginn | I18: Geplantes Ende | J18: Materialkosten netto | K18: Arbeitskosten netto | L18: Sonstige Kosten netto | M18: Umsatzsteuer % | N18: Gesamtkosten brutto | O18: Eigenleistung Stunden | P18: Stundensatz Eigenleistung | Q18: Wert Eigenleistung | R18: Beantragter Zuschuss % | S18: Beantragter Betrag | T18: Eigenanteil | U18: Kostenart | V18: Nachweis vorhanden | W18: Bemerkung | X18: Ansprechpartner (Zuordnung)
A19: 1 | B19: Wohnzimmer | C19: Streichen der Wände | D19: Starke Abnutzung und Flecken | E19: Malerbetrieb Schneider | F19: MS-2026-031 | G19: 46086 | H19: 46113 | I19: 46115 | J19: 420 | K19: 780 | L19: 35 | M19: 0.19 | N19: =IF(COUNTA(A19:M19)=0,"",SUM(J19:L19)*(1+M19)) | O19: 4 | P19: 20 | Q19: =IF(OR(O19="",P19=""),"",O19*P19) | R19: 0.8 | S19: =IF(OR(N19="",R19=""),"",N19*R19) | T19: =IF(OR(N19="",S19=""),"",N19-S19) | U19: Handwerker | V19: Ja | W19: Beispiel: Thomas Müller, Berlin | X19: =IF(E19="","",IFERROR(VLOOKUP(E19,'Lieferanten & Sätze'!$A$4:$B$103,2,FALSE),"Nicht hinterlegt"))
A20: 2 | B20: Wohnzimmer | C20: Erneuerung des Laminats | D20: Belag beschädigt und abgenutzt | E20: Bodenbau Weber | F20: BW-2026-114 | G20: 46096 | H20: 46120 | I20: 46123 | J20: 1250 | K20: 620 | L20: 80 | M20: 0.19 | N20: =IF(COUNTA(A20:M20)=0,"",SUM(J20:L20)*(1+M20)) | O20: 2 | P20: 20 | Q20: =IF(OR(O20="",P20=""),"",O20*P20) | R20: 0.7 | S20: =IF(OR(N20="",R20=""),"",N20*R20) | T20: =IF(OR(N20="",S20=""),"",N20-S20) | U20: Handwerker | V20: Ja | W20: Beispiel: Sabine Schneider, München | X20: =IF(E20="","",IFERROR(VLOOKUP(E20,'Lieferanten & Sätze'!$A$4:$B$103,2,FALSE),"Nicht hinterlegt"))
A21: 3 | B21: Küche | C21: Reparatur der Elektroinstallation | D21: Defekte Steckdosen und Leitung | E21: Elektro Fischer | F21: EF-2026-087 | G21: 46109 | H21: 46127 | I21: 46128 | J21: 180 | K21: 460 | L21: 25 | M21: 0.19 | N21: =IF(COUNTA(A21:M21)=0,"",SUM(J21:L21)*(1+M21)) | O21: 0 | P21: 0 | Q21: =IF(OR(O21="",P21=""),"",O21*P21) | R21: 1 | S21: =IF(OR(N21="",R21=""),"",N21*R21) | T21: =IF(OR(N21="",S21=""),"",N21-S21) | U21: Handwerker | V21: Ja | W21: Beispiel: Michael Fischer, Hamburg | X21: =IF(E21="","",IFERROR(VLOOKUP(E21,'Lieferanten & Sätze'!$A$4:$B$103,2,FALSE),"Nicht hinterlegt"))
A22: 4 | B22: Schlafzimmer | C22: Schimmelbeseitigung | D22: Feuchtigkeitsschaden an Außenwand | E22: Hoffmann Sanierung | F22: HS-2026-204 | G22: 46119 | H22: 46134 | I22: 46137 | J22: 310 | K22: 890 | L22: 95 | M22: 0.19 | N22: =IF(COUNTA(A22:M22)=0,"",SUM(J22:L22)*(1+M22)) | O22: 3 | P22: 20 | Q22: =IF(OR(O22="",P22=""),"",O22*P22) | R22: 0.9 | S22: =IF(OR(N22="",R22=""),"",N22*R22) | T22: =IF(OR(N22="",S22=""),"",N22-S22) | U22: Handwerker | V22: Nein | W22: Beispiel: Andrea Weber, Köln | X22: =IF(E22="","",IFERROR(VLOOKUP(E22,'Lieferanten & Sätze'!$A$4:$B$103,2,FALSE),"Nicht hinterlegt"))
A23: 5 | B23: Badezimmer | C23: Austausch eines Waschbeckens | D23: Waschbecken gerissen und undicht | E23: Sanitär Wagner | F23: SW-2026-056 | G23: 46130 | H23: 46146 | I23: 46146 | J23: 220 | K23: 340 | L23: 20 | M23: 0.19 | N23: =IF(COUNTA(A23:M23)=0,"",SUM(J23:L23)*(1+M23)) | O23: 0 | P23: 0 | Q23: =IF(OR(O23="",P23=""),"",O23*P23) | R23: 0.75 | S23: =IF(OR(N23="",R23=""),"",N23*R23) | T23: =IF(OR(N23="",S23=""),"",N23-S23) | U23: Handwerker | V23: Ja | W23: Beispiel: Stefan Wagner, Frankfurt | X23: =IF(E23="","",IFERROR(VLOOKUP(E23,'Lieferanten & Sätze'!$A$4:$B$103,2,FALSE),"Nicht hinterlegt"))
A24: 6 | B24: Wohnungstür | C24: Reparatur der Wohnungstür | D24: Schloss und Türblatt beschädigt | E24: Schreinerei Becker | F24: SB-2026-142 | G24: 46143 | H24: 46154 | I24: 46154 | J24: 390 | K24: 530 | L24: 15 | M24: 0.19 | N24: =IF(COUNTA(A24:M24)=0,"",SUM(J24:L24)*(1+M24)) | O24: 1 | P24: 20 | Q24: =IF(OR(O24="",P24=""),"",O24*P24) | R24: 0.8 | S24: =IF(OR(N24="",R24=""),"",N24*R24) | T24: =IF(OR(N24="",S24=""),"",N24-S24) | U24: Handwerker | V24: Ja | W24: Beispiel: Petra Becker, Stuttgart | X24: =IF(E24="","",IFERROR(VLOOKUP(E24,'Lieferanten & Sätze'!$A$4:$B$103,2,FALSE),"Nicht hinterlegt"))
A25: 7 | B25: Flur | C25: Renovierung des Flurs | D25: Abgenutzte Wandflächen und Decke | E25: Hoffmann Sanierung | F25: HS-2026-233 | G25: 46155 | H25: 46168 | I25: 46170 | J25: 280 | K25: 650 | L25: 40 | M25: 0.19 | N25: =IF(COUNTA(A25:M25)=0,"",SUM(J25:L25)*(1+M25)) | O25: 5 | P25: 20 | Q25: =IF(OR(O25="",P25=""),"",O25*P25) | R25: 0.7 | S25: =IF(OR(N25="",R25=""),"",N25*R25) | T25: =IF(OR(N25="",S25=""),"",N25-S25) | U25: Handwerker | V25: Nein | W25: Beispiel: Andreas Hoffmann, Düsseldorf | X25: =IF(E25="","",IFERROR(VLOOKUP(E25,'Lieferanten & Sätze'!$A$4:$B$103,2,FALSE),"Nicht hinterlegt"))
A26: 8 | B26: Wohnzimmer | C26: Erneuerung der Fußleisten | D26: Fußleisten beschädigt und lose | E26: Schäfer Dienstleistungen | F26: SD-2026-065 | G26: 46171 | H26: 46181 | I26: 46182 | J26: 150 | K26: 240 | L26: 10 | M26: 0.19 | N26: =IF(COUNTA(A26:M26)=0,"",SUM(J26:L26)*(1+M26)) | O26: 2 | P26: 20 | Q26: =IF(OR(O26="",P26=""),"",O26*P26) | R26: 0.6 | S26: =IF(OR(N26="",R26=""),"",N26*R26) | T26: =IF(OR(N26="",S26=""),"",N26-S26) | U26: Material | V26: Ja | W26: Beispiel: Claudia Schäfer, Leipzig | X26: =IF(E26="","",IFERROR(VLOOKUP(E26,'Lieferanten & Sätze'!$A$4:$B$103,2,FALSE),"Nicht hinterlegt"))
A27: 9 | B27: Kinderzimmer | C27: Malerarbeiten im Kinderzimmer | D27: Abnutzung und Kritzeleien an Wänden | E27: Bauer Innenausbau | F27: BI-2026-091 | G27: 46181 | H27: 46191 | I27: 46192 | J27: 250 | K27: 510 | L27: 30 | M27: 0.19 | N27: =IF(COUNTA(A27:M27)=0,"",SUM(J27:L27)*(1+M27)) | O27: 3 | P27: 20 | Q27: =IF(OR(O27="",P27=""),"",O27*P27) | R27: 0.75 | S27: =IF(OR(N27="",R27=""),"",N27*R27) | T27: =IF(OR(N27="",S27=""),"",N27-S27) | U27: Handwerker | V27: Ja | W27: Beispiel: Markus Bauer, Dresden | X27: =IF(E27="","",IFERROR(VLOOKUP(E27,'Lieferanten & Sätze'!$A$4:$B$103,2,FALSE),"Nicht hinterlegt"))
N28: =IF(COUNTA(A28:M28)=0,"",SUM(J28:L28)*(1+M28)) | Q28: =IF(OR(O28="",P28=""),"",O28*P28) | S28: =IF(OR(N28="",R28=""),"",N28*R28) | T28: =IF(OR(N28="",S28=""),"",N28-S28) | X28: =IF(E28="","",IFERROR(VLOOKUP(E28,'Lieferanten & Sätze'!$A$4:$B$103,2,FALSE),"Nicht hinterlegt"))
N29: =IF(COUNTA(A29:M29)=0,"",SUM(J29:L29)*(1+M29)) | Q29: =IF(OR(O29="",P29=""),"",O29*P29) | S29: =IF(OR(N29="",R29=""),"",N29*R29) | T29: =IF(OR(N29="",S29=""),"",N29-S29) | X29: =IF(E29="","",IFERROR(VLOOKUP(E29,'Lieferanten & Sätze'!$A$4:$B$103,2,FALSE),"Nicht hinterlegt"))
N30: =IF(COUNTA(A30:M30)=0,"",SUM(J30:L30)*(1+M30)) | Q30: =IF(OR(O30="",P30=""),"",O30*P30) | S30: =IF(OR(N30="",R30=""),"",N30*R30) | T30: =IF(OR(N30="",S30=""),"",N30-S30) | X30: =IF(E30="","",IFERROR(VLOOKUP(E30,'Lieferanten & Sätze'!$A$4:$B$103,2,FALSE),"Nicht hinterlegt"))
N31: =IF(COUNTA(A31:M31)=0,"",SUM(J31:L31)*(1+M31)) | Q31: =IF(OR(O31="",P31=""),"",O31*P31) | S31: =IF(OR(N31="",R31=""),"",N31*R31) | T31: =IF(OR(N31="",S31=""),"",N31-S31) | X31: =IF(E31="","",IFERROR(VLOOKUP(E31,'Lieferanten & Sätze'!$A$4:$B$103,2,FALSE),"Nicht hinterlegt"))
N32: =IF(COUNTA(A32:M32)=0,"",SUM(J32:L32)*(1+M32)) | Q32: =IF(OR(O32="",P32=""),"",O32*P32) | S32: =IF(OR(N32="",R32=""),"",N32*R32) | T32: =IF(OR(N32="",S32=""),"",N32-S32) | X32: =IF(E32="","",IFERROR(VLOOKUP(E32,'Lieferanten & Sätze'!$A$4:$B$103,2,FALSE),"Nicht hinterlegt"))
N33: =IF(COUNTA(A33:M33)=0,"",SUM(J33:L33)*(1+M33)) | Q33: =IF(OR(O33="",P33=""),"",O33*P33) | S33: =IF(OR(N33="",R33=""),"",N33*R33) | T33: =IF(OR(N33="",S33=""),"",N33-S33) | X33: =IF(E33="","",IFERROR(VLOOKUP(E33,'Lieferanten & Sätze'!$A$4:$B$103,2,FALSE),"Nicht hinterlegt"))
N34: =IF(COUNTA(A34:M34)=0,"",SUM(J34:L34)*(1+M34)) | Q34: =IF(OR(O34="",P34=""),"",O34*P34) | S34: =IF(OR(N34="",R34=""),"",N34*R34) | T34: =IF(OR(N34="",S34=""),"",N34-S34) | X34: =IF(E34="","",IFERROR(VLOOKUP(E34,'Lieferanten & Sätze'!$A$4:$B$103,2,FALSE),"Nicht hinterlegt"))
N35: =IF(COUNTA(A35:M35)=0,"",SUM(J35:L35)*(1+M35)) | Q35: =IF(OR(O35="",P35=""),"",O35*P35) | S35: =IF(OR(N35="",R35=""),"",N35*R35) | T35: =IF(OR(N35="",S35=""),"",N35-S35) | X35: =IF(E35="","",IFERROR(VLOOKUP(E35,'Lieferanten & Sätze'!$A$4:$B$103,2,FALSE),"Nicht hinterlegt"))
N36: =IF(COUNTA(A36:M36)=0,"",SUM(J36:L36)*(1+M36)) | Q36: =IF(OR(O36="",P36=""),"",O36*P36) | S36: =IF(OR(N36="",R36=""),"",N36*R36) | T36: =IF(OR(N36="",S36=""),"",N36-S36) | X36: =IF(E36="","",IFERROR(VLOOKUP(E36,'Lieferanten & Sätze'!$A$4:$B$103,2,FALSE),"Nicht hinterlegt"))
N37: =IF(COUNTA(A37:M37)=0,"",SUM(J37:L37)*(1+M37)) | Q37: =IF(OR(O37="",P37=""),"",O37*P37) | S37: =IF(OR(N37="",R37=""),"",N37*R37) | T37: =IF(OR(N37="",S37=""),"",N37-S37) | X37: =IF(E37="","",IFERROR(VLOOKUP(E37,'Lieferanten & Sätze'!$A$4:$B$103,2,FALSE),"Nicht hinterlegt"))
N38: =IF(COUNTA(A38:M38)=0,"",SUM(J38:L38)*(1+M38)) | Q38: =IF(OR(O38="",P38=""),"",O38*P38) | S38: =IF(OR(N38="",R38=""),"",N38*R38) | T38: =IF(OR(N38="",S38=""),"",N38-S38) | X38: =IF(E38="","",IFERROR(VLOOKUP(E38,'Lieferanten & Sätze'!$A$4:$B$103,2,FALSE),"Nicht hinterlegt"))
N39: =IF(COUNTA(A39:M39)=0,"",SUM(J39:L39)*(1+M39)) | Q39: =IF(OR(O39="",P39=""),"",O39*P39) | S39: =IF(OR(N39="",R39=""),"",N39*R39) | T39: =IF(OR(N39="",S39=""),"",N39-S39) | X39: =IF(E39="","",IFERROR(VLOOKUP(E39,'Lieferanten & Sätze'!$A$4:$B$103,2,FALSE),"Nicht hinterlegt"))
... N118: =IF(COUNTA(A118:M118)=0,"",SUM(J118:L118)*(1+M118)) | Q118: =IF(OR(O118="",P118=""),"",O118*P118) | S118: =IF(OR(N118="",R118=""),"",N118*R118) | T118: =IF(OR(N118="",S118=""),"",N118-S118) | X118: =IF(E118="","",IFERROR(VLOOKUP(E118,'Lieferanten & Sätze'!$A$4:$B$103,2,FALSE),"Nicht hinterlegt"))

Sheet Lieferanten & Sätze
A1: Lieferanten & Sätze – Angebotsvergleich und Richtwerte
A3: Lieferant / Dienstleister | B3: Ansprechpartner | C3: Ort | D3: Gewerk | E3: Angebotspreis netto | F3: Standard-Stundensatz | G3: Bewertung | H3: Gültig bis | I3: Bemerkung | J3: Gültigkeitsprüfung | L3: Kennzahlen
A4: Malerbetrieb Schneider | B4: Anna Schneider | C4: Berlin | D4: Malerarbeiten | E4: 1235 | F4: 62 | G4: Sehr gut | H4: 46284 | I4: Langjähriger regionaler Betrieb | J4: =IF(H4="","",IF(H4<TODAY(),"Abgelaufen","Gültig")) | L4: Durchschnittlicher Stundensatz | M4: =IFERROR(AVERAGE(F4:F103),0)
A5: Renovierung Müller | B5: Lukas Müller | C5: München | D5: Malerarbeiten | E5: 1480 | F5: 68 | G5: Gut | H5: 46337 | I5: Kurzfristige Termine möglich | J5: =IF(H5="","",IF(H5<TODAY(),"Abgelaufen","Gültig")) | L5: Anzahl Dienstleister Malerarbeiten | M5: =COUNTIF(D4:D103,"Malerarbeiten")
A6: Elektro Fischer | B6: Michael Fischer | C6: Hamburg | D6: Elektroarbeiten | E6: 665 | F6: 74 | G6: Sehr gut | H6: 46352 | I6: Meisterbetrieb mit E-Check | J6: =IF(H6="","",IF(H6<TODAY(),"Abgelaufen","Gültig"))
A7: Bodenbau Weber | B7: Julia Weber | C7: Köln | D7: Bodenarbeiten | E7: 1870 | F7: 59 | G7: Gut | H7: 46295 | I7: Laminat und Vinyl inklusive Beratung | J7: =IF(H7="","",IF(H7<TODAY(),"Abgelaufen","Gültig"))
A8: Sanitär Wagner | B8: Stefan Wagner | C8: Frankfurt | D8: Sanitärarbeiten | E8: 560 | F8: 71 | G8: Gut | H8: 46322 | I8: Notdienst und Kleinreparaturen | J8: =IF(H8="","",IF(H8<TODAY(),"Abgelaufen","Gültig"))
A9: Schreinerei Becker | B9: Petra Becker | C9: Stuttgart | D9: Tischlerarbeiten | E9: 920 | F9: 69 | G9: Sehr gut | H9: 46367 | I9: Tür- und Möbelreparaturen | J9: =IF(H9="","",IF(H9<TODAY(),"Abgelaufen","Gültig"))
A10: Hoffmann Sanierung | B10: Andreas Hoffmann | C10: Düsseldorf | D10: Sanierung | E10: 1450 | F10: 73 | G10: Gut | H10: 46300 | I10: Schimmel- und Feuchtesanierung | J10: =IF(H10="","",IF(H10<TODAY(),"Abgelaufen","Gültig"))
A11: Schäfer Dienstleistungen | B11: Claudia Schäfer | C11: Leipzig | D11: Montagearbeiten | E11: 400 | F11: 52 | G11: Befriedigend | H11: 46344 | I11: Kleinere Renovierungsleistungen | J11: =IF(H11="","",IF(H11<TODAY(),"Abgelaufen","Gültig"))
A12: Bauer Innenausbau | B12: Markus Bauer | C12: Dresden | D12: Innenausbau | E12: 790 | F12: 64 | G12: Sehr gut | H12: 46392 | I12: Ausbau- und Malerarbeiten | J12: =IF(H12="","",IF(H12<TODAY(),"Abgelaufen","Gültig"))
J13: =IF(H13="","",IF(H13<TODAY(),"Abgelaufen","Gültig"))
J14: =IF(H14="","",IF(H14<TODAY(),"Abgelaufen","Gültig"))
J15: =IF(H15="","",IF(H15<TODAY(),"Abgelaufen","Gültig"))
J16: =IF(H16="","",IF(H16<TODAY(),"Abgelaufen","Gültig"))
J17: =IF(H17="","",IF(H17<TODAY(),"Abgelaufen","Gültig"))
J18: =IF(H18="","",IF(H18<TODAY(),"Abgelaufen","Gültig"))
J19: =IF(H19="","",IF(H19<TODAY(),"Abgelaufen","Gültig"))
J20: =IF(H20="","",IF(H20<TODAY(),"Abgelaufen","Gültig"))
J21: =IF(H21="","",IF(H21<TODAY(),"Abgelaufen","Gültig"))
J22: =IF(H22="","",IF(H22<TODAY(),"Abgelaufen","Gültig"))
J23: =IF(H23="","",IF(H23<TODAY(),"Abgelaufen","Gültig"))
J24: =IF(H24="","",IF(H24<TODAY(),"Abgelaufen","Gültig"))
... J103: =IF(H103="","",IF(H103<TODAY(),"Abgelaufen","Gültig"))

Sheet Übersicht
A1: Übersicht Renovierungskosten
A3: Kennzahl | B3: Wert
A4: Gesamtkosten brutto | B4: ='Antrag & Kosten'!$A$16
A5: Beantragter Zuschuss | B5: ='Antrag & Kosten'!$D$16
A6: Eigenanteil | B6: =IFERROR(B4-B5,0)
A7: Anteil Zuschuss an Gesamtkosten | B7: =IFERROR(B5/B4,0)
A8: Anzahl Kostenpositionen | B8: =COUNTIF('Antrag & Kosten'!$A$19:$A$118,">0")
A9: Positionen mit fehlendem Nachweis | B9: =COUNTIF('Antrag & Kosten'!$V$19:$V$118,"Nein")
A10: Durchschnittskosten je Position | B10: ='Antrag & Kosten'!$G$16
A11: Antragsstatus | B11: ='Antrag & Kosten'!$B$8
A12: Einreichungsstatus | B12: =IF(B9>0,"Unterlagen ergänzen","Bereit zur Einreichung")
D15: Kostenart | E15: Gesamtkosten brutto | G15: Aufteilung | H15: Betrag | J15: Raum / Bereich | K15: Gesamtkosten brutto
D16: Material | E16: =SUMIF('Antrag & Kosten'!$U$19:$U$118,D16,'Antrag & Kosten'!$N$19:$N$118) | G16: Beantragter Zuschuss | H16: =$B$5 | J16: Wohnzimmer | K16: =SUMIF('Antrag & Kosten'!$B$19:$B$118,J16,'Antrag & Kosten'!$N$19:$N$118)
D17: Handwerker | E17: =SUMIF('Antrag & Kosten'!$U$19:$U$118,D17,'Antrag & Kosten'!$N$19:$N$118) | G17: Eigenanteil | H17: =$B$6 | J17: Küche | K17: =SUMIF('Antrag & Kosten'!$B$19:$B$118,J17,'Antrag & Kosten'!$N$19:$N$118)
D18: Entsorgung | E18: =SUMIF('Antrag & Kosten'!$U$19:$U$118,D18,'Antrag & Kosten'!$N$19:$N$118) | J18: Schlafzimmer | K18: =SUMIF('Antrag & Kosten'!$B$19:$B$118,J18,'Antrag & Kosten'!$N$19:$N$118)
D19: Sonstiges | E19: =SUMIF('Antrag & Kosten'!$U$19:$U$118,D19,'Antrag & Kosten'!$N$19:$N$118) | J19: Badezimmer | K19: =SUMIF('Antrag & Kosten'!$B$19:$B$118,J19,'Antrag & Kosten'!$N$19:$N$118)
J20: Wohnungstür | K20: =SUMIF('Antrag & Kosten'!$B$19:$B$118,J20,'Antrag & Kosten'!$N$19:$N$118)
J21: Flur | K21: =SUMIF('Antrag & Kosten'!$B$19:$B$118,J21,'Antrag & Kosten'!$N$19:$N$118)
J22: Kinderzimmer | K22: =SUMIF('Antrag & Kosten'!$B$19:$B$118,J22,'Antrag & Kosten'!$N$19:$N$118)
J23: Keller | K23: =SUMIF('Antrag & Kosten'!$B$19:$B$118,J23,'Antrag & Kosten'!$N$19:$N$118)
J24: Balkon | K24: =SUMIF('Antrag & Kosten'!$B$19:$B$118,J24,'Antrag & Kosten'!$N$19:$N$118)
J25: Sonstiges | K25: =SUMIF('Antrag & Kosten'!$B$19:$B$118,J25,'Antrag & Kosten'!$N$19:$N$118)

Sheet Anleitung
A1: Anleitung – Formloser Antrag Renovierungskosten
A3: Schritt | B3: Hinweis | C3: Betroffenes Tabellenblatt | D3: Wichtiger Praxisbezug
A4: 1 | B4: Gelbe Felder ausfüllen. Die hellblauen Felder werden automatisch berechnet. | C4: Antrag & Kosten | D4: Antragsdaten, Kosten, Eigenanteil und Zuschussquote vollständig erfassen.
A5: 2 | B5: Angebote, Rechnungen, Fotos und weitere Nachweise ergänzen. | C5: Antrag & Kosten | D5: Bei fehlenden Nachweisen zeigt die Statusprüfung einen Hinweis an.
A6: 3 | B6: Begründung sachlich, konkret und nachvollziehbar formulieren. | C6: Antrag & Kosten | D6: Mangel, Abnutzung oder erforderliche Instandsetzung eindeutig beschreiben.
A7: 4 | B7: Lieferantenangebote und Stundensätze vergleichen sowie Gültigkeit prüfen. | C7: Lieferanten & Sätze | D7: Abgelaufene Angebote vor der Einreichung aktualisieren.
A8: 5 | B8: Kostenaufteilung zwischen Vermieter, Mieter und Eigenleistung prüfen. | C8: Übersicht | D8: Beantragter Zuschuss, Eigenanteil und Gesamtkosten plausibilisieren.
A9: 6 | B9: Antrag ausdrucken oder digital als PDF einreichen. | C9: Antrag & Kosten | D9: Status nach Einreichung auf Eingereicht setzen und Unterlagen ablegen.
A10: 7 | B10: BGB, Mietvertrag, Modernisierungsvereinbarung und gegebenenfalls WEG-Regelungen beachten. | C10: Alle Tabellenblätter | D10: Bei rechtlichen Zweifeln fachkundige Beratung einholen.
A11: 8 | B11: Keine personenbezogenen Daten unnötig speichern und DSGVO berücksichtigen. | C11: Alle Tabellenblätter | D11: Datenzugriff beschränken und Unterlagen sicher aufbewahren.
A14: Hinweis | B14: Die Arbeitsmappe dient der strukturierten Dokumentation und ersetzt keine rechtliche Prüfung oder individuelle Vereinbarung.
